BEGIN:VCALENDAR
VERSION:2.0
PRODID:-//Northside Hospital | Careers - ECPv6.15.12.2//NONSGML v1.0//EN
CALSCALE:GREGORIAN
METHOD:PUBLISH
X-WR-CALNAME:Northside Hospital | Careers
X-ORIGINAL-URL:https://northside.site.findly.com
X-WR-CALDESC:Events for Northside Hospital | Careers
REFRESH-INTERVAL;VALUE=DURATION:PT1H
X-Robots-Tag:noindex
X-PUBLISHED-TTL:PT1H
BEGIN:VTIMEZONE
TZID:UTC
BEGIN:STANDARD
TZOFFSETFROM:+0000
TZOFFSETTO:+0000
TZNAME:UTC
DTSTART:20210101T000000
END:STANDARD
END:VTIMEZONE
BEGIN:VEVENT
DTSTART;TZID=UTC:20220209T150000
DTEND;TZID=UTC:20220209T190000
DTSTAMP:20260425T231918
CREATED:20220123T090901Z
LAST-MODIFIED:20220123T100839Z
UID:13350-1644418800-1644433200@northside.site.findly.com
SUMMARY:RN Hiring Event
DESCRIPTION:RN Hiring Event\n\n\n\n\n\nDiscover a more rewarding career!  \nRN Hiring Event\nWednesday\, February 9 | 3:00pm – 7:00pm\nSpringhill Suites Alpharetta/Roswell\n1360 Old Roswell Rd.\nRoswell\, GA 30076 \nRSVP to Alexis Collier at alexis.collier@northside.com \nReady to take your clinical career in an exciting new direction? Our Forsyth campus is growing to meet the ever-changing healthcare needs of our dynamic Cumming\, GA community. Join us for our in-person career event\, meet directly with hiring managers\, explore our wide range of nursing openings\, and see the many advantages to a career with Northside.
URL:https://northside.site.findly.com/event/13350/
LOCATION:SpringHill Suites- Alpharetta\, 1360 Old Roswell Road\, Roswell\, GA\, 30076\, United States
CATEGORIES:Nurse Events 6
END:VEVENT
END:VCALENDAR