BEGIN:VCALENDAR
VERSION:2.0
PRODID:-//Northside Hospital | Careers - ECPv6.15.12.2//NONSGML v1.0//EN
CALSCALE:GREGORIAN
METHOD:PUBLISH
X-WR-CALNAME:Northside Hospital | Careers
X-ORIGINAL-URL:https://northside.site.findly.com
X-WR-CALDESC:Events for Northside Hospital | Careers
REFRESH-INTERVAL;VALUE=DURATION:PT1H
X-Robots-Tag:noindex
X-PUBLISHED-TTL:PT1H
BEGIN:VTIMEZONE
TZID:UTC
BEGIN:STANDARD
TZOFFSETFROM:+0000
TZOFFSETTO:+0000
TZNAME:UTC
DTSTART:20210101T000000
END:STANDARD
END:VTIMEZONE
BEGIN:VEVENT
DTSTART;TZID=UTC:20220915T090000
DTEND;TZID=UTC:20220915T120000
DTSTAMP:20260425T232708
CREATED:20220908T080435Z
LAST-MODIFIED:20220908T080739Z
UID:15401-1663232400-1663243200@northside.site.findly.com
SUMMARY:Clinical & Non-Clinical Drop-In Interview Days – Northside Hospital
DESCRIPTION:Clinical & Non-Clinical Drop-In Interview Days – Northside Hospital\n\n\n\n\n\n\nSecurity\, Atlanta \nThursday 9/15 | 9 a.m. – 12 p.m. or Tuesday 9/27 | 1 p.m. – 4 p.m.\nNorthside Midtown Medical\n1110 W Peachtree St.\, NW\nAtlanta\, GA 30309\nConference Room\, Level P-3 \nEmbark on the next chapter in your healthcare career by joining Northside for our Clinical & Non-Clinical Drop-In Interview Days. We will be conducting same day interviews. You’ll learn more about rewarding career opportunities at Northside\, where you’ll receive the best training and resources\, work alongside the best colleagues\, and most of all\, experience the best opportunities in healthcare today. \nRSVP by applying today!
URL:https://northside.site.findly.com/event/15401/2022-09-15/
LOCATION:Northside Hospital – Midtown Medical Campus\, 1110 W. Peachtree Street NW\, Atlanta\, GA\, 30309\, United States
CATEGORIES:Non-Clinical
END:VEVENT
END:VCALENDAR