BEGIN:VCALENDAR
VERSION:2.0
PRODID:-//Northside Hospital | Careers - ECPv6.15.12.2//NONSGML v1.0//EN
CALSCALE:GREGORIAN
METHOD:PUBLISH
X-WR-CALNAME:Northside Hospital | Careers
X-ORIGINAL-URL:https://northside.site.findly.com
X-WR-CALDESC:Events for Northside Hospital | Careers
REFRESH-INTERVAL;VALUE=DURATION:PT1H
X-Robots-Tag:noindex
X-PUBLISHED-TTL:PT1H
BEGIN:VTIMEZONE
TZID:UTC
BEGIN:STANDARD
TZOFFSETFROM:+0000
TZOFFSETTO:+0000
TZNAME:UTC
DTSTART:20230101T000000
END:STANDARD
END:VTIMEZONE
BEGIN:VEVENT
DTSTART;TZID=UTC:20240627T173000
DTEND;TZID=UTC:20240627T200000
DTSTAMP:20260425T134410
CREATED:20240625T172440Z
LAST-MODIFIED:20240625T172440Z
UID:18948-1719509400-1719518400@northside.site.findly.com
SUMMARY:Acute Cardiology and ED Hiring Event
DESCRIPTION:Acute Cardiology and ED Hiring Event\n\n\n\n\n\nThursday\, June 27th \n5:30p.m. – 8:00 p.m. \nJoin us for our Acute Cardiology and ED Hiring Event! We’d love to meet you and tell you about rewarding Acute Cardiology and ED opportunities at our Atlanta location. \nInterview with our team at the event and learn more about the culture of caring we’ve built at Northside Hospital. \n\nRSVP Today!
URL:https://northside.site.findly.com/event/acute-cardiology-and-ed-hiring-event/
CATEGORIES:Nurse Events 1
END:VEVENT
END:VCALENDAR