BEGIN:VCALENDAR
VERSION:2.0
PRODID:-//Northside Hospital | Careers - ECPv6.15.12.2//NONSGML v1.0//EN
CALSCALE:GREGORIAN
METHOD:PUBLISH
X-WR-CALNAME:Northside Hospital | Careers
X-ORIGINAL-URL:https://northside.site.findly.com
X-WR-CALDESC:Events for Northside Hospital | Careers
REFRESH-INTERVAL;VALUE=DURATION:PT1H
X-Robots-Tag:noindex
X-PUBLISHED-TTL:PT1H
BEGIN:VTIMEZONE
TZID:UTC
BEGIN:STANDARD
TZOFFSETFROM:+0000
TZOFFSETTO:+0000
TZNAME:UTC
DTSTART:20200101T000000
END:STANDARD
END:VTIMEZONE
BEGIN:VEVENT
DTSTART;TZID=UTC:20211109T080000
DTEND;TZID=UTC:20211221T120000
DTSTAMP:20260426T025106
CREATED:20211108T155408Z
LAST-MODIFIED:20211118T195431Z
UID:12641-1636444800-1640088000@northside.site.findly.com
SUMMARY:Acute Care Interview Days
DESCRIPTION:Acute Care Interview Days\n\n\n\n\n\nTake on the biggest challenges. Experience the greatest rewards. \nNorthside Forsyth is growing\nExplore exciting acute care careers! \nAcute Care Interview Days\nEvery Tuesday & Thursday\n8:00am – 12:00pm\nNow through December 21 (except Thanksgiving week) \n1800 Northside Forsyth Drive\nWomen’s Center Atrium\nCumming\, GA 30041\nWalk-Ins Welcome! \nNorthside Forsyth is expanding its cardiac and orthopedic acute care facilities – opening in January 2022! Join us and grow your career with one of the southeast’s most respected healthcare leaders. We’re seeking: \n• RNs\n• Patient Care Techs\n• Unit Secretaries \nRSVP to Kristy.Daley@Northside.com
URL:https://northside.site.findly.com/event/acute-care-interview-days/
LOCATION:Northside Forsyth\, 1200 Northside Forsyth Drive\, Cumming\, GA\, 30041\, United States
CATEGORIES:Nurse Events 5
END:VEVENT
END:VCALENDAR