BEGIN:VCALENDAR
VERSION:2.0
PRODID:-//Northside Hospital | Careers - ECPv6.15.12.2//NONSGML v1.0//EN
CALSCALE:GREGORIAN
METHOD:PUBLISH
X-WR-CALNAME:Northside Hospital | Careers
X-ORIGINAL-URL:https://northside.site.findly.com
X-WR-CALDESC:Events for Northside Hospital | Careers
REFRESH-INTERVAL;VALUE=DURATION:PT1H
X-Robots-Tag:noindex
X-PUBLISHED-TTL:PT1H
BEGIN:VTIMEZONE
TZID:UTC
BEGIN:STANDARD
TZOFFSETFROM:+0000
TZOFFSETTO:+0000
TZNAME:UTC
DTSTART:20240101T000000
END:STANDARD
END:VTIMEZONE
BEGIN:VEVENT
DTSTART;TZID=UTC:20250206T160000
DTEND;TZID=UTC:20250206T190000
DTSTAMP:20260425T134938
CREATED:20250109T145107Z
LAST-MODIFIED:20250109T145107Z
UID:19631-1738857600-1738868400@northside.site.findly.com
SUMMARY:Atlanta & Gwinnett Respiratory Care Hiring Event
DESCRIPTION:Atlanta & Gwinnett Respiratory Care Hiring Event\n\n\n\n\n\nLOOK TO NORTHSIDE\nWork at the cutting edge of clinical excellence \nSurgical Services Hiring Event\nThursday\, February 6\, | 4:00 p.m.– 7:00 p.m.\n \n\nYou belong here! Thrive in a friendly\, empowering culture with supportive leadership\, career level program\, and excellent benefits including loan forgiveness. Come find out why Northside Hospital is the right place for you. Register for our Hiring Event now to secure your on-the-spot interview! \nRegister Now
URL:https://northside.site.findly.com/event/atlanta-gwinnett-respiratory-care-hiring-event/
CATEGORIES:Allied Events 2
END:VEVENT
END:VCALENDAR