BEGIN:VCALENDAR
VERSION:2.0
PRODID:-//Northside Hospital | Careers - ECPv6.15.12.2//NONSGML v1.0//EN
CALSCALE:GREGORIAN
METHOD:PUBLISH
X-WR-CALNAME:Northside Hospital | Careers
X-ORIGINAL-URL:https://northside.site.findly.com
X-WR-CALDESC:Events for Northside Hospital | Careers
REFRESH-INTERVAL;VALUE=DURATION:PT1H
X-Robots-Tag:noindex
X-PUBLISHED-TTL:PT1H
BEGIN:VTIMEZONE
TZID:UTC
BEGIN:STANDARD
TZOFFSETFROM:+0000
TZOFFSETTO:+0000
TZNAME:UTC
DTSTART:20200101T000000
END:STANDARD
END:VTIMEZONE
BEGIN:VEVENT
DTSTART;TZID=UTC:20211116T170000
DTEND;TZID=UTC:20211116T190000
DTSTAMP:20260426T011353
CREATED:20211110T162508Z
LAST-MODIFIED:20211110T162508Z
UID:12705-1637082000-1637089200@northside.site.findly.com
SUMMARY:Cancer Care Hiring Event
DESCRIPTION:Help Us Deliver Life-Saving Cancer Care.\n\n\n\n\n\nCancer Care Hiring Event\nTuesday\, November 16th | 5:00pm – 7:00pm\nAtlanta Cancer Care – Cumming Infusion Center\n1505 Northside Blvd\, Ste #4600\nCumming\, GA 30041 \nRSVP to Tamara Mitchell at Tamara.Mitchell@Northside.com \n \nReady to take your career in an exciting new direction with a respected healthcare leader? Looking to make a significant\, positive impact working on the front lines of cancer care? We’ve got the opportunity for you at Northside Hospital! We have the following openings available at our Atlanta Cancer Care – Cumming Infusion Center: \n• Infusion RN – Strong inpatient experience and IV skills will be considered\n• Hall Nurse – Previous triage experience preferred\n• Med Tech – Previous triage experience preferred\n• LPN – Previous triage experience
URL:https://northside.site.findly.com/event/cancer-care-hiring-event/
CATEGORIES:Nurse Events 1
END:VEVENT
END:VCALENDAR