BEGIN:VCALENDAR
VERSION:2.0
PRODID:-//Northside Hospital | Careers - ECPv6.15.12.2//NONSGML v1.0//EN
CALSCALE:GREGORIAN
METHOD:PUBLISH
X-WR-CALNAME:Northside Hospital | Careers
X-ORIGINAL-URL:https://northside.site.findly.com
X-WR-CALDESC:Events for Northside Hospital | Careers
REFRESH-INTERVAL;VALUE=DURATION:PT1H
X-Robots-Tag:noindex
X-PUBLISHED-TTL:PT1H
BEGIN:VTIMEZONE
TZID:UTC
BEGIN:STANDARD
TZOFFSETFROM:+0000
TZOFFSETTO:+0000
TZNAME:UTC
DTSTART:20240101T000000
END:STANDARD
END:VTIMEZONE
BEGIN:VEVENT
DTSTART;TZID=UTC:20250318T160000
DTEND;TZID=UTC:20250318T190000
DTSTAMP:20260424T235244
CREATED:20250303T053410Z
LAST-MODIFIED:20250303T053448Z
UID:19723-1742313600-1742324400@northside.site.findly.com
SUMMARY:Cancer Institute RN & LPN Recruitment Event - March 18th
DESCRIPTION:Cancer Institute RN & LPN Recruitment Event\n\n\n\n\n\nLOOK TO NORTHSIDE\nExpand Your Horizons \nMarch 18\, 2025 | 4PM – 7PM\nNorthside Cancer Institute\nExperienced Oncology RN & LPN Recruitment Event \n\nPursue exceptional growth and meaningful opportunities along inspiring and rewarding career paths. Register now to interview for opportunities in Inpatient BMT and Oncology\, Outpatient Infusion\, Clinical Research\, and Radiation Oncology. Various shifts available ((7am-7pm\, 7pm-7am or 8:30am-5pm)\, along with awesome benefits and a culture of work-life harmony. \nApply Now
URL:https://northside.site.findly.com/event/cancer-institute-rn-lpn-recruitment-event-march-18th/
CATEGORIES:Nurse Events 1
END:VEVENT
END:VCALENDAR