BEGIN:VCALENDAR
VERSION:2.0
PRODID:-//Northside Hospital | Careers - ECPv6.15.12.2//NONSGML v1.0//EN
CALSCALE:GREGORIAN
METHOD:PUBLISH
X-WR-CALNAME:Northside Hospital | Careers
X-ORIGINAL-URL:https://northside.site.findly.com
X-WR-CALDESC:Events for Northside Hospital | Careers
REFRESH-INTERVAL;VALUE=DURATION:PT1H
X-Robots-Tag:noindex
X-PUBLISHED-TTL:PT1H
BEGIN:VTIMEZONE
TZID:UTC
BEGIN:STANDARD
TZOFFSETFROM:+0000
TZOFFSETTO:+0000
TZNAME:UTC
DTSTART:20240101T000000
END:STANDARD
END:VTIMEZONE
BEGIN:VEVENT
DTSTART;TZID=UTC:20250227T180000
DTEND;TZID=UTC:20250227T210000
DTSTAMP:20260425T013129
CREATED:20250226T172650Z
LAST-MODIFIED:20250226T172650Z
UID:19713-1740679200-1740690000@northside.site.findly.com
SUMMARY:Cardiovascular RNs and Students - Mix & Mingle - Hiring Event - Feb 27th
DESCRIPTION:Mix & Mingle Game Show Event: Cardiology RNs & Students\n\n\n\n\n\nLOOK TO NORTHSIDE\nExpand Your Horizons\nFebruary 27\, 2025\, 6-9pm \nJoin Northside Hospital Heart Institute for a night of fun inspired by JEOPARDY!\, America’s Favorite Quiz Show®. Enjoy raffles\, prizes\, marketplace\, music\, small bites & more! Register now. \n“JEOPARDY!” and “America’s Favorite Quiz Show” are trademarks of Jeopardy Productions\, Inc. All rights reserved. \n\nRegister Here!
URL:https://northside.site.findly.com/event/cardiovascular-rns-and-students-mix-mingle-hiring-event-feb-27th/
CATEGORIES:Nurse Events 2
END:VEVENT
END:VCALENDAR