BEGIN:VCALENDAR
VERSION:2.0
PRODID:-//Northside Hospital | Careers - ECPv6.15.12.2//NONSGML v1.0//EN
CALSCALE:GREGORIAN
METHOD:PUBLISH
X-WR-CALNAME:Northside Hospital | Careers
X-ORIGINAL-URL:https://northside.site.findly.com
X-WR-CALDESC:Events for Northside Hospital | Careers
REFRESH-INTERVAL;VALUE=DURATION:PT1H
X-Robots-Tag:noindex
X-PUBLISHED-TTL:PT1H
BEGIN:VTIMEZONE
TZID:UTC
BEGIN:STANDARD
TZOFFSETFROM:+0000
TZOFFSETTO:+0000
TZNAME:UTC
DTSTART:20240101T000000
END:STANDARD
END:VTIMEZONE
BEGIN:VEVENT
DTSTART;TZID=UTC:20250320T080000
DTEND;TZID=UTC:20250320T110000
DTSTAMP:20260425T134527
CREATED:20250220T083209Z
LAST-MODIFIED:20250220T083209Z
UID:19708-1742457600-1742468400@northside.site.findly.com
SUMMARY:Cherokee Acute Care RN - Experienced and Residency Event
DESCRIPTION:Gwinnett & Duluth Acute Care Nursing Hiring Event\n\n\n\n\n\nLOOK TO NORTHSIDE\nExpand Your Horizons \nThrive in a friendly\, empowering culture of medical excellence. Register for our Hiring Event for on-the-spot interviews and offers! All experienced and resident RNs and LPNs are encouraged to explore RN Leadership\, RN\, LPN and RN Residency roles. \n\nCome find out why Northside is the right place for you! \nRegister Here
URL:https://northside.site.findly.com/event/cherokee-acute-care-rn-experienced-and-residency-event/
CATEGORIES:Nurse Events 1
END:VEVENT
END:VCALENDAR