BEGIN:VCALENDAR
VERSION:2.0
PRODID:-//Northside Hospital | Careers - ECPv6.15.12.2//NONSGML v1.0//EN
CALSCALE:GREGORIAN
METHOD:PUBLISH
X-WR-CALNAME:Northside Hospital | Careers
X-ORIGINAL-URL:https://northside.site.findly.com
X-WR-CALDESC:Events for Northside Hospital | Careers
REFRESH-INTERVAL;VALUE=DURATION:PT1H
X-Robots-Tag:noindex
X-PUBLISHED-TTL:PT1H
BEGIN:VTIMEZONE
TZID:UTC
BEGIN:STANDARD
TZOFFSETFROM:+0000
TZOFFSETTO:+0000
TZNAME:UTC
DTSTART:20220101T000000
END:STANDARD
END:VTIMEZONE
BEGIN:VEVENT
DTSTART;TZID=UTC:20230606T070000
DTEND;TZID=UTC:20230606T100000
DTSTAMP:20260426T011416
CREATED:20230424T114938Z
LAST-MODIFIED:20230424T114938Z
UID:16937-1686034800-1686045600@northside.site.findly.com
SUMMARY:Cherokee Med Surg Event
DESCRIPTION:Join us for our Cherokee Med Surg Event\n\n\n\n\n\nElevate Your Nursing Skills. Look to Northside.\nBagels and Coffee on the Terrace \nTuesday\, June 6 | 7 a.m. – 10 a.m.\nNorthside Hospital Cherokee\n450 Northside Cherokee Blvd.\nCanton\, GA 30115 \nRN Leadership\, RNs\, LPNs\, and PCTs\, find out how you can boost your career at our Cherokee Med/Surg Hiring Event on June 6. You can work with a variety of patients\, challenge your nursing skills\, and make personal connections.\nBy joining Northside’s team\, you’ll enjoy… \n• Excellent benefits\n• Student loan repayment\n• Tuition reimbursement\n• Work-life balance\n• A strong culture of caring \nInterviews will be conducted on the spot. We look forward to meeting you! \n\nRSVP Here!
URL:https://northside.site.findly.com/event/cherokee-med-surg-event/
CATEGORIES:Nurse Events 2
END:VEVENT
END:VCALENDAR