BEGIN:VCALENDAR
VERSION:2.0
PRODID:-//Northside Hospital | Careers - ECPv6.15.12.2//NONSGML v1.0//EN
CALSCALE:GREGORIAN
METHOD:PUBLISH
X-WR-CALNAME:Northside Hospital | Careers
X-ORIGINAL-URL:https://northside.site.findly.com
X-WR-CALDESC:Events for Northside Hospital | Careers
REFRESH-INTERVAL;VALUE=DURATION:PT1H
X-Robots-Tag:noindex
X-PUBLISHED-TTL:PT1H
BEGIN:VTIMEZONE
TZID:UTC
BEGIN:STANDARD
TZOFFSETFROM:+0000
TZOFFSETTO:+0000
TZNAME:UTC
DTSTART:20230101T000000
END:STANDARD
END:VTIMEZONE
BEGIN:VEVENT
DTSTART;TZID=UTC:20241008T073000
DTEND;TZID=UTC:20241008T100000
DTSTAMP:20260425T233657
CREATED:20240918T131109Z
LAST-MODIFIED:20240918T131109Z
UID:19323-1728372600-1728381600@northside.site.findly.com
SUMMARY:Cherokee Night RN – Emergency Services (ED) Hiring Event
DESCRIPTION:Join us at our Cherokee Night RN – Emergency Services (ED) Hiring Event\n\n\n\n\n\nTo advance healthcare excellence\nLOOK TO NORTHSIDE \nTues.\, Oct. 8th | 7:30 – 10:00 a.m.\nNorthside Hospital Cherokee – Main Lobby\n450 Northside Cherokee Blvd.\nCanton\, GA 30115 \nJoin us and explore career opportunities as an Emergency Services (ED) RN! We have night shift positions (7:00 p.m. – 7:00 a.m.) available at our Cherokee location. We look forward to connecting with you and sharing our commitment to healthcare excellence. \nYou can gain invaluable experience in healthcare that will shape your career in the most rewarding way. Our workplace culture nurtures excellence and empowers you to do your best work. As a member of our team\, you can look forward to: \n\nA positive\, supportive work environment\nOpportunities for growth\nExcellent benefits\, including an active pension plan\nFamily-building support through Progyny’s fertility\, surrogacy\, and adoption benefits\nChild\, elder\, and pet care through Bright Horizons and SitterCity\n\nDon’t miss this chance to interview with our team! We look forward to meeting you. \n\nRSVP Today
URL:https://northside.site.findly.com/event/cherokee-night-rn-emergency-services-ed-hiring-event/
CATEGORIES:Nurse Events 4
END:VEVENT
END:VCALENDAR