BEGIN:VCALENDAR
VERSION:2.0
PRODID:-//Northside Hospital | Careers - ECPv6.15.12.2//NONSGML v1.0//EN
CALSCALE:GREGORIAN
METHOD:PUBLISH
X-WR-CALNAME:Northside Hospital | Careers
X-ORIGINAL-URL:https://northside.site.findly.com
X-WR-CALDESC:Events for Northside Hospital | Careers
REFRESH-INTERVAL;VALUE=DURATION:PT1H
X-Robots-Tag:noindex
X-PUBLISHED-TTL:PT1H
BEGIN:VTIMEZONE
TZID:UTC
BEGIN:STANDARD
TZOFFSETFROM:+0000
TZOFFSETTO:+0000
TZNAME:UTC
DTSTART:20240101T000000
END:STANDARD
END:VTIMEZONE
BEGIN:VEVENT
DTSTART;TZID=UTC:20250529T150000
DTEND;TZID=UTC:20250529T183000
DTSTAMP:20260425T025442
CREATED:20250407T173511Z
LAST-MODIFIED:20250407T173511Z
UID:19818-1748530800-1748543400@northside.site.findly.com
SUMMARY:Cherokee Physician Enterprise Hiring Event
DESCRIPTION:Cherokee Physician Enterprise Hiring Event May 29\, 3pm-6:30pm\n\n\n\n\n\nPursue your goals and ambitions with Northside! Join a dedicated team providing exceptional patient care within a supportive\, collaborative environment. We are hiring for: \n\nMAs\nLPNs\nRad Techs\nFront Office Assistants\nSchedulers\n\nWorking within our Physician Practice group\, offers the stability and resources of a leading healthcare system along with the close-knit atmosphere of a smaller practice. You will enjoy meaningful patient interactions and professional growth opportunities — within a culture of innovation and excellence that prioritizes both patient well-being and employee development. \nJoin us for growth potential\, consistent Mon-Fri schedules\, excellent benefits and more. Register for our Hiring Event now to secure your on-the-spot interview! \n\nRegister Now!
URL:https://northside.site.findly.com/event/cherokee-physician-enterprise-hiring-event/
CATEGORIES:Physician Practice
END:VEVENT
END:VCALENDAR