BEGIN:VCALENDAR
VERSION:2.0
PRODID:-//Northside Hospital | Careers - ECPv6.15.12.2//NONSGML v1.0//EN
CALSCALE:GREGORIAN
METHOD:PUBLISH
X-WR-CALNAME:Northside Hospital | Careers
X-ORIGINAL-URL:https://northside.site.findly.com
X-WR-CALDESC:Events for Northside Hospital | Careers
REFRESH-INTERVAL;VALUE=DURATION:PT1H
X-Robots-Tag:noindex
X-PUBLISHED-TTL:PT1H
BEGIN:VTIMEZONE
TZID:UTC
BEGIN:STANDARD
TZOFFSETFROM:+0000
TZOFFSETTO:+0000
TZNAME:UTC
DTSTART:20210101T000000
END:STANDARD
END:VTIMEZONE
BEGIN:VEVENT
DTSTART;TZID=UTC:20220202T100000
DTEND;TZID=UTC:20220202T160000
DTSTAMP:20260426T005804
CREATED:20220123T094732Z
LAST-MODIFIED:20220123T095703Z
UID:13359-1643796000-1643817600@northside.site.findly.com
SUMMARY:Clinical Tech Hiring Event
DESCRIPTION:Clinical Tech Hiring Event\n\n\n\n\n\nTurn your specialized expertise\ninto a truly rewarding career. \nClinical Tech Hiring Event\nWednesday\, February 2 | 10am – 4pm\nNorthside Hospital\, Forsyth\n1200 Northside Forsyth Drive\nCumming\, GA 30041\nThe event will be held in the hallway between the Women’s Center and cafeteria \nRSVP by sending your resume and position of interest to Alexis Collier at alexis.collier@northside.com \nReady to take your clinical career in an exciting new direction? We’ve got the opportunity for you! Our Forsyth location has the following immediate openings: \n• Anesthesia Techs\n• CT Techs\n• Instrument Techs\n• Mammography Techs\n• Monitor Techs\n• MRI Techs\n• Patient Care Techs\n• Rad Techs\n• Support Techs\n• Surgical Techs\n• Ultrasound Techs\n• Lab Technical Assistants/Phlebotomists (with Hospital experience) \nWe have full- and part-time positions available on various shifts. Join us and meet hiring managers\, explore careers\, and discover the many advantages to a career with us.
URL:https://northside.site.findly.com/event/clinical-tech-hiring-event-4/
LOCATION:Northside Forsyth\, 1200 Northside Forsyth Drive\, Cumming\, GA\, 30041\, United States
CATEGORIES:Nurse Events 2
END:VEVENT
END:VCALENDAR