BEGIN:VCALENDAR
VERSION:2.0
PRODID:-//Northside Hospital | Careers - ECPv6.15.12.2//NONSGML v1.0//EN
CALSCALE:GREGORIAN
METHOD:PUBLISH
X-WR-CALNAME:Northside Hospital | Careers
X-ORIGINAL-URL:https://northside.site.findly.com
X-WR-CALDESC:Events for Northside Hospital | Careers
REFRESH-INTERVAL;VALUE=DURATION:PT1H
X-Robots-Tag:noindex
X-PUBLISHED-TTL:PT1H
BEGIN:VTIMEZONE
TZID:UTC
BEGIN:STANDARD
TZOFFSETFROM:+0000
TZOFFSETTO:+0000
TZNAME:UTC
DTSTART:20230101T000000
END:STANDARD
END:VTIMEZONE
BEGIN:VEVENT
DTSTART;TZID=UTC:20240520T130000
DTEND;TZID=UTC:20240520T170000
DTSTAMP:20260425T232833
CREATED:20240509T153428Z
LAST-MODIFIED:20240509T153428Z
UID:18500-1716210000-1716224400@northside.site.findly.com
SUMMARY:Duluth Acute Care RN Hiring Event
DESCRIPTION:Duluth Acute Care RN Hiring Event\n\n\n\n\n\nMonday\, May 20th\n1:00 p.m. – 5:00 p.m. \nRN Residents\, join us for our Hiring Event on May 20th and explore exciting opportunities in Acute Care at our Duluth location. You’ll gain experience caring for a diverse patient population as you grow personally and professionally. \nWe’ll conduct interviews at the event and make offers within 48 hours! Don’t miss this chance to meet with our Northside team. \n\nRSVP Today!
URL:https://northside.site.findly.com/event/duluth-acute-care-rn-hiring-event/
CATEGORIES:Nurse Events 4
END:VEVENT
END:VCALENDAR