BEGIN:VCALENDAR
VERSION:2.0
PRODID:-//Northside Hospital | Careers - ECPv6.15.12.2//NONSGML v1.0//EN
CALSCALE:GREGORIAN
METHOD:PUBLISH
X-WR-CALNAME:Northside Hospital | Careers
X-ORIGINAL-URL:https://northside.site.findly.com
X-WR-CALDESC:Events for Northside Hospital | Careers
REFRESH-INTERVAL;VALUE=DURATION:PT1H
X-Robots-Tag:noindex
X-PUBLISHED-TTL:PT1H
BEGIN:VTIMEZONE
TZID:UTC
BEGIN:STANDARD
TZOFFSETFROM:+0000
TZOFFSETTO:+0000
TZNAME:UTC
DTSTART:20220101T000000
END:STANDARD
END:VTIMEZONE
BEGIN:VEVENT
DTSTART;TZID=UTC:20230613T170000
DTEND;TZID=UTC:20230613T193000
DTSTAMP:20260425T234357
CREATED:20230525T061906Z
LAST-MODIFIED:20230525T061906Z
UID:16980-1686675600-1686684600@northside.site.findly.com
SUMMARY:ED\, ICU\, and Cardiology RN & Tech Event
DESCRIPTION:LOOKING FOR AN ELITE CAREER EXPERIENCE?\nLOOK TO NORTHSIDE\n\n\n\n\n\nED\, ICU\, and Cardiology RN & Tech Event \nTuesday\, June 13th | 5:00 p.m. – 7:30 p.m.\nLocal Republic\n139 N Perry St.\nLawrenceville\, GA 30046 \nED\, ICU\, and Cardiology RNs and Technicians\, join us for a Hiring Event on June 13. We have open roles at our Gwinnett and Duluth hospitals\, and there are various shifts available. Explore this opportunity to enjoy a rewarding healthcare career. \nYou’ll also enjoy… \n\nExcellent benefits \nWork-life balance \nA strong culture of caring \n\nWe look forward to meeting you! \n\nRSVP Now!
URL:https://northside.site.findly.com/event/ed-icu-and-cardiology-rn-tech-event/
LOCATION:Local Republic Restaurant\, 139 N. Perry St.\, Lawrenceville\, GA\, 30046\, United States
CATEGORIES:Nurse Events 6
END:VEVENT
END:VCALENDAR