BEGIN:VCALENDAR
VERSION:2.0
PRODID:-//Northside Hospital | Careers - ECPv6.15.12.2//NONSGML v1.0//EN
CALSCALE:GREGORIAN
METHOD:PUBLISH
X-WR-CALNAME:Northside Hospital | Careers
X-ORIGINAL-URL:https://northside.site.findly.com
X-WR-CALDESC:Events for Northside Hospital | Careers
REFRESH-INTERVAL;VALUE=DURATION:PT1H
X-Robots-Tag:noindex
X-PUBLISHED-TTL:PT1H
BEGIN:VTIMEZONE
TZID:UTC
BEGIN:STANDARD
TZOFFSETFROM:+0000
TZOFFSETTO:+0000
TZNAME:UTC
DTSTART:20200101T000000
END:STANDARD
END:VTIMEZONE
BEGIN:VEVENT
DTSTART;TZID=UTC:20210820T090000
DTEND;TZID=UTC:20210820T150000
DTSTAMP:20260425T234238
CREATED:20210729T143756Z
LAST-MODIFIED:20210730T134645Z
UID:11650-1629450000-1629471600@northside.site.findly.com
SUMMARY:ED Tech and Behavioral Health Tech Interview Day
DESCRIPTION:ED Tech and Behavioral Health Tech Interview Day\n\n\n\n\n\nMake a real difference.\nExperience real career fulfillment. \nED Tech and Behavioral Health Tech Interview Day\nFriday\, August 20\n9:00am-3:00pm\nNorthside Hospital Gwinnett\n1000 Medical Center Boulevard\nLawrenceville\, GA 30046\n*Event will be held in the “Private Dining Room”\nJoin us In-Person or on Zoom \nWould you like to turn your compassion and dedication into an extraordinary career? Are you ready for a career that offers exciting challenges and exceptional rewards? You’ll find it all at\nNorthside Hospital – Atlanta’s most preferred hospital. We have a full-time\, part-time\, and resource positions available for ED Techs and Behavioral Health Techs throughout our system\, including our ED in Duluth and ED Observation in Lawrenceville. \nRSVP by contacting Adam Penaflorida at Adam.Penaflorida@Northside.com
URL:https://northside.site.findly.com/event/ed-tech-and-behavioral-health-tech-interview-day/
LOCATION:Northside Resource Center\, 1000 Medical Center Boulevard\, Lawrenceville\, GA\, 30046\, United States
CATEGORIES:Nurse Events 6
END:VEVENT
END:VCALENDAR