BEGIN:VCALENDAR
VERSION:2.0
PRODID:-//Northside Hospital | Careers - ECPv6.15.12.2//NONSGML v1.0//EN
CALSCALE:GREGORIAN
METHOD:PUBLISH
X-WR-CALNAME:Northside Hospital | Careers
X-ORIGINAL-URL:https://northside.site.findly.com
X-WR-CALDESC:Events for Northside Hospital | Careers
REFRESH-INTERVAL;VALUE=DURATION:PT1H
X-Robots-Tag:noindex
X-PUBLISHED-TTL:PT1H
BEGIN:VTIMEZONE
TZID:UTC
BEGIN:STANDARD
TZOFFSETFROM:+0000
TZOFFSETTO:+0000
TZNAME:UTC
DTSTART:20210101T000000
END:STANDARD
END:VTIMEZONE
BEGIN:VEVENT
DTSTART;TZID=UTC:20220201T100000
DTEND;TZID=UTC:20220201T140000
DTSTAMP:20260426T025116
CREATED:20220121T131102Z
LAST-MODIFIED:20220121T131239Z
UID:13345-1643709600-1643724000@northside.site.findly.com
SUMMARY:EVS Tech Job Fair
DESCRIPTION:EVS Tech Job Fair\n\n\n\n\n\nDeliver the exceptional support that makes award-winning care possible. \nEVS Tech Job Fair\nTuesday\, February 1\n10:00am – 2:00pm\nCourtyard by Marriott – Cartersville\n5460 GA-20\nCartersville\, GA 30121 \nRSVP with a copy of your resume to: Stefanie.Matthews@Northside.com \nThe first 50 who interview will receive an exciting prize! \nReady to take your career in an exciting new direction? We’ve got the opportunity for you at our Cherokee campus! Join us for our in-person Job Fair\, meet directly with hiring managers and explore roles for Environmental Service Techs!
URL:https://northside.site.findly.com/event/evs-tech-job-fair-2/
CATEGORIES:Nurse Events 4
END:VEVENT
END:VCALENDAR