BEGIN:VCALENDAR
VERSION:2.0
PRODID:-//Northside Hospital | Careers - ECPv6.15.12.2//NONSGML v1.0//EN
CALSCALE:GREGORIAN
METHOD:PUBLISH
X-WR-CALNAME:Northside Hospital | Careers
X-ORIGINAL-URL:https://northside.site.findly.com
X-WR-CALDESC:Events for Northside Hospital | Careers
REFRESH-INTERVAL;VALUE=DURATION:PT1H
X-Robots-Tag:noindex
X-PUBLISHED-TTL:PT1H
BEGIN:VTIMEZONE
TZID:UTC
BEGIN:STANDARD
TZOFFSETFROM:+0000
TZOFFSETTO:+0000
TZNAME:UTC
DTSTART:20210101T000000
END:STANDARD
END:VTIMEZONE
BEGIN:VEVENT
DTSTART;TZID=UTC:20220411T080000
DTEND;TZID=UTC:20220411T170000
DTSTAMP:20260426T030016
CREATED:20220304T071149Z
LAST-MODIFIED:20220409T005634Z
UID:14039-1649664000-1649696400@northside.site.findly.com
SUMMARY:Expand your skills. Elevate your career.
DESCRIPTION:Expand your skills. Elevate your career.\n\n\n\n\n\n  \nPCT Internship Program\n.\nClasses begin:\nApril 11\n.\nIf you have a passion for patient care and you’re ready to take on an exciting new role with a world-class healthcare leader\, our 8-week PCT Internship Program is the opportunity for you!\n\n• Receive in-depth classroom education and precepting\n• Experience a wealth of clinical resources\n• Learn from exceptional system-wide and unit-based educators\n• Enjoy excellent compensation and benefits\n• Pursue varied clinical sub-specialties\n• Gain the competencies and confidence to take on an independent patient care role \n.\nRSVP by applying to your preferred hospital location.\nMedical/Surgical Roles:\nATLANTA\nCHEROKEE\nCUMMING \nMother-Baby Roles:\nATLANTA\nCHEROKEE\nCUMMING
URL:https://northside.site.findly.com/event/expand-your-skills-elevate-your-career/
CATEGORIES:Nurse Events 6
END:VEVENT
END:VCALENDAR