BEGIN:VCALENDAR
VERSION:2.0
PRODID:-//Northside Hospital | Careers - ECPv6.15.12.2//NONSGML v1.0//EN
CALSCALE:GREGORIAN
METHOD:PUBLISH
X-WR-CALNAME:Northside Hospital | Careers
X-ORIGINAL-URL:https://northside.site.findly.com
X-WR-CALDESC:Events for Northside Hospital | Careers
REFRESH-INTERVAL;VALUE=DURATION:PT1H
X-Robots-Tag:noindex
X-PUBLISHED-TTL:PT1H
BEGIN:VTIMEZONE
TZID:UTC
BEGIN:STANDARD
TZOFFSETFROM:+0000
TZOFFSETTO:+0000
TZNAME:UTC
DTSTART:20220101T000000
END:STANDARD
END:VTIMEZONE
BEGIN:VEVENT
DTSTART;TZID=UTC:20230524T090000
DTEND;TZID=UTC:20230525T160000
DTSTAMP:20260426T025753
CREATED:20230505T154640Z
LAST-MODIFIED:20230516T120537Z
UID:16958-1684918800-1685030400@northside.site.findly.com
SUMMARY:Experienced Nurse Residency Interview Days
DESCRIPTION:LOOKING TO DELIVER WORLD-CLASS CANCER CARE?\nLOOK TO NORTHSIDE\n\n\n\n\n\nExperienced Nurse Residency Interview Days\nAtlanta Cancer Care & Georgia Cancer Specialists \nWednesday\, May 24 9 a.m. – 3 p.m.\nThursday\, June 1 9 a.m. – 3 p.m.\nNorthside Atlanta \nLPNs & Experienced RNs\, join us for a Hiring Event on May 11 or May 12. Join the largest cancer network across Georgia\, including 30 outpatient infusion clinics. We have a variety of openings with Atlanta Cancer Care & Georgia Cancer Specialists. This is an incredible opportunity to take the next step in your nursing career.\nAs part of our team\, you’ll enjoy… \n• 8 weeks of orientation\, including in-class sessions once a week\n• Excellent benefits\n• Work-life balance\n• A strong culture of caring \nWe look forward to meeting you! \n\nRSVP Here!
URL:https://northside.site.findly.com/event/experienced-nurse-residency-interview-days/
CATEGORIES:Nurse Events 1
END:VEVENT
END:VCALENDAR