BEGIN:VCALENDAR
VERSION:2.0
PRODID:-//Northside Hospital | Careers - ECPv6.15.12.2//NONSGML v1.0//EN
CALSCALE:GREGORIAN
METHOD:PUBLISH
X-WR-CALNAME:Northside Hospital | Careers
X-ORIGINAL-URL:https://northside.site.findly.com
X-WR-CALDESC:Events for Northside Hospital | Careers
REFRESH-INTERVAL;VALUE=DURATION:PT1H
X-Robots-Tag:noindex
X-PUBLISHED-TTL:PT1H
BEGIN:VTIMEZONE
TZID:UTC
BEGIN:STANDARD
TZOFFSETFROM:+0000
TZOFFSETTO:+0000
TZNAME:UTC
DTSTART:20210101T000000
END:STANDARD
END:VTIMEZONE
BEGIN:VEVENT
DTSTART;TZID=UTC:20220714T163000
DTEND;TZID=UTC:20220714T190000
DTSTAMP:20260425T220036
CREATED:20220616T141638Z
LAST-MODIFIED:20220616T141638Z
UID:14921-1657816200-1657825200@northside.site.findly.com
SUMMARY:Experienced Rehab Therapists Hiring Event
DESCRIPTION:Experienced Rehab Therapists Hiring Event\n\n\n\n\n\nRestore lives. Reward yourself. \nThursday\, July 14\, 2022\n4:30pm-7pm\nPure Taqueria – 405 Chambers Street\, Woodstock\, GA 30188 \nWe’re seeking skilled\, compassionate\, experienced Occupational Therapists\, Physical Therapists\, and Speech-Language Pathologists at our Cherokee campus. Join us at this event! \n\nRSVP TODAY
URL:https://northside.site.findly.com/event/experienced-rehab-therapists-hiring-event-2/
CATEGORIES:Nurse Events 1
END:VEVENT
END:VCALENDAR