BEGIN:VCALENDAR
VERSION:2.0
PRODID:-//Northside Hospital | Careers - ECPv6.15.12.2//NONSGML v1.0//EN
CALSCALE:GREGORIAN
METHOD:PUBLISH
X-WR-CALNAME:Northside Hospital | Careers
X-ORIGINAL-URL:https://northside.site.findly.com
X-WR-CALDESC:Events for Northside Hospital | Careers
REFRESH-INTERVAL;VALUE=DURATION:PT1H
X-Robots-Tag:noindex
X-PUBLISHED-TTL:PT1H
BEGIN:VTIMEZONE
TZID:UTC
BEGIN:STANDARD
TZOFFSETFROM:+0000
TZOFFSETTO:+0000
TZNAME:UTC
DTSTART:20210101T000000
END:STANDARD
END:VTIMEZONE
BEGIN:VEVENT
DTSTART;TZID=UTC:20220721T160000
DTEND;TZID=UTC:20220721T190000
DTSTAMP:20260425T201901
CREATED:20220616T144725Z
LAST-MODIFIED:20220616T144725Z
UID:14930-1658419200-1658430000@northside.site.findly.com
SUMMARY:Experienced Rehab Therapists Hiring Event
DESCRIPTION:Experienced Rehab Therapists Hiring Event\n\n\n\n\n\nRestore lives. Reward yourself. \nThursday\, July 21\, 2022\n4pm-7pm\nUnder the Cork Tree\n5600 Roswell Rd. NE #2\nSandy Springs\, GA 30342 \nWe’re seeking skilled\, compassionate\, experienced Occupational Therapists\, Physical Therapists\, and Speech-Language Pathologists in both Acute and Outpatient settings for our Northside Atlanta campus. Join us at this event! \n\nRSVP TODAY
URL:https://northside.site.findly.com/event/experienced-rehab-therapists-hiring-event-3/
CATEGORIES:Nurse Events 5
END:VEVENT
END:VCALENDAR