BEGIN:VCALENDAR
VERSION:2.0
PRODID:-//Northside Hospital | Careers - ECPv6.15.12.2//NONSGML v1.0//EN
CALSCALE:GREGORIAN
METHOD:PUBLISH
X-ORIGINAL-URL:https://northside.site.findly.com
X-WR-CALDESC:Events for Northside Hospital | Careers
REFRESH-INTERVAL;VALUE=DURATION:PT1H
X-Robots-Tag:noindex
X-PUBLISHED-TTL:PT1H
BEGIN:VTIMEZONE
TZID:UTC
BEGIN:STANDARD
TZOFFSETFROM:+0000
TZOFFSETTO:+0000
TZNAME:UTC
DTSTART:20210101T000000
END:STANDARD
END:VTIMEZONE
BEGIN:VEVENT
DTSTART;TZID=UTC:20220824T073000
DTEND;TZID=UTC:20220824T113000
DTSTAMP:20260425T184516
CREATED:20220803T054526Z
LAST-MODIFIED:20220803T054633Z
UID:15161-1661326200-1661340600@northside.site.findly.com
SUMMARY:Food Services Hiring Event - Forsyth
DESCRIPTION:Food Services Hiring Event – Forsyth\n\n\n\n\nCraving a more fulfilling career?\n\nWednesday\, August 24\, 2022\n• Session 1: 7:30 am – 11:30 am\n• Session 2: 1:30 pm – 5:30 pm\nLanier Technical College\nForsyth Conference Center\n3410 Ronald Reagan Blvd.\nCumming\, GA 30041\nAt this unique event\, we’ll be serving up these opportunities at our Forsyth location: \n• Food Service Group Leader\n• Cook\n• Cashier\n• Food Service Worker I\n• Food Service Worker II\n• Patient Dining Associate \nRSVP TODAY
URL:https://northside.site.findly.com/event/food-services-hiring-event-forsyth/2022-08-24/
CATEGORIES:Non Clinical 2
END:VEVENT
END:VCALENDAR