BEGIN:VCALENDAR
VERSION:2.0
PRODID:-//Northside Hospital | Careers - ECPv6.15.12.2//NONSGML v1.0//EN
CALSCALE:GREGORIAN
METHOD:PUBLISH
X-ORIGINAL-URL:https://northside.site.findly.com
X-WR-CALDESC:Events for Northside Hospital | Careers
REFRESH-INTERVAL;VALUE=DURATION:PT1H
X-Robots-Tag:noindex
X-PUBLISHED-TTL:PT1H
BEGIN:VTIMEZONE
TZID:UTC
BEGIN:STANDARD
TZOFFSETFROM:+0000
TZOFFSETTO:+0000
TZNAME:UTC
DTSTART:20220101T000000
END:STANDARD
END:VTIMEZONE
BEGIN:VEVENT
DTSTART;TZID=UTC:20230725T130000
DTEND;TZID=UTC:20230725T160000
DTSTAMP:20260426T025410
CREATED:20230630T191225Z
LAST-MODIFIED:20230630T191225Z
UID:17027-1690290000-1690300800@northside.site.findly.com
SUMMARY:Food Services Hiring Events
DESCRIPTION:FOR A CAREER PROMOTING HEALTH & WELL-BEING LOOK TO NORTHSIDE\n\n\n\n\n\nJoin us for our Food Services Hiring Events. \nGwinnett Campus\nTuesday\, July 25 | 1 p.m. – 4 p.m.\nNorthside Hospital Gwinnett – Resource Center\n665 Duluth Hwy Ste 101\nLawrenceville\, GA 30046 \nForsyth Campus\nWednesday\, July 26 | 1 p.m. – 4 p.m.\nNorthside Hospital Forsyth – Cafeteria\n1200 Northside Forsyth Dr.\nCumming\, GA 30041 \nFood Services Professionals\, join our team for one of our Hiring Events on July 25 or July 26 to find out more about these roles… \n• Cooks\n• Food Service Workers\n• Catering Assistants\n• Cashiers\n• Patient Dining Assistants \nFind out more about our Food Services Department and learn about the intricate work that goes into feeding our patients and staff. Interviews will be conducted and offers made on the spot. \nWe look forward to meeting you! \n\nRSVP Now!
URL:https://northside.site.findly.com/event/food-services-hiring-events/2023-07-25/
CATEGORIES:Non Clinical 2
END:VEVENT
END:VCALENDAR