BEGIN:VCALENDAR
VERSION:2.0
PRODID:-//Northside Hospital | Careers - ECPv6.15.12.2//NONSGML v1.0//EN
CALSCALE:GREGORIAN
METHOD:PUBLISH
X-WR-CALNAME:Northside Hospital | Careers
X-ORIGINAL-URL:https://northside.site.findly.com
X-WR-CALDESC:Events for Northside Hospital | Careers
REFRESH-INTERVAL;VALUE=DURATION:PT1H
X-Robots-Tag:noindex
X-PUBLISHED-TTL:PT1H
BEGIN:VTIMEZONE
TZID:UTC
BEGIN:STANDARD
TZOFFSETFROM:+0000
TZOFFSETTO:+0000
TZNAME:UTC
DTSTART:20230101T000000
END:STANDARD
END:VTIMEZONE
BEGIN:VEVENT
DTSTART;TZID=UTC:20240307T070000
DTEND;TZID=UTC:20240307T100000
DTSTAMP:20260425T122606
CREATED:20240212T155119Z
LAST-MODIFIED:20240213T085935Z
UID:18059-1709794800-1709805600@northside.site.findly.com
SUMMARY:Forsyth Coffee and Careers Acute Care Event
DESCRIPTION:Forsyth Coffee and Careers Acute Care Event\n\n\n\n\n\nTo perk up your career\nLOOK TO NORTHSIDE \nForsyth Coffee and Careers Acute Care Event\nThursday\, March 7th | 7:00 a.m. – 10:00 a.m.\nNorthside Hospital Forsyth\n1200 Northside Forsyth Drive (1400 Medical Building\, Bennett Room)\nCumming\, Georgia 30041 \nJoin us for a great Hiring Event where you can learn more about job opportunities in Acute Care! We’ll have on-the-spot interviews and job offers for the following positions:\n● RNs\n● LPNs\n● PCTs (CNAs) \nYou can grow in your career and gain valuable experience that will serve you well. Become part of our leading healthcare system\, where our workplace culture fosters excellence and empowers you to do your best work. As a member of our team\, you can look forward to:\n● A great work environment\n● Opportunities for growth\n● Excellent benefits\, including an active pension plan\n● Relocation benefits\n● Student loan repayment/Tuition reimbursement\n● Family-building support through Progyny’s fertility\, surrogacy\, and adoption benefits\n● Child\, elder\, and pet care through Bright Horizons and SitterCity \nWe look forward to meeting you! \n\nRSVP Today!
URL:https://northside.site.findly.com/event/forsyth-coffee-and-careers-acute-care-event/
CATEGORIES:Nurse Events 5
END:VEVENT
END:VCALENDAR