BEGIN:VCALENDAR
VERSION:2.0
PRODID:-//Northside Hospital | Careers - ECPv6.15.12.2//NONSGML v1.0//EN
CALSCALE:GREGORIAN
METHOD:PUBLISH
X-WR-CALNAME:Northside Hospital | Careers
X-ORIGINAL-URL:https://northside.site.findly.com
X-WR-CALDESC:Events for Northside Hospital | Careers
REFRESH-INTERVAL;VALUE=DURATION:PT1H
X-Robots-Tag:noindex
X-PUBLISHED-TTL:PT1H
BEGIN:VTIMEZONE
TZID:UTC
BEGIN:STANDARD
TZOFFSETFROM:+0000
TZOFFSETTO:+0000
TZNAME:UTC
DTSTART:20240101T000000
END:STANDARD
END:VTIMEZONE
BEGIN:VEVENT
DTSTART;TZID=UTC:20250205T143000
DTEND;TZID=UTC:20250205T180000
DTSTAMP:20260426T011600
CREATED:20250120T073223Z
LAST-MODIFIED:20250120T073819Z
UID:19649-1738765800-1738778400@northside.site.findly.com
SUMMARY:Forsyth Physician Practices Hiring Event - Feb 5 2025
DESCRIPTION:Join us at our Forsyth Physician Practices Hiring Event\n\n\n\n\n\nLOOK TO NORTHSIDE\nExpand Your Horizons \nForsyth Physician Practices Hiring Event\nWednesday\, February 5\, 2:30pm-6pm \n\nReimagine what you want in work and life because you can have it all Northside! Create a career that meets your work\, life\, home and family needs with our physician practices. Hiring RNs\, LPNs\, Medical Assistants and Rad Techs who want growth potential\, consistent Mon-Fri schedules\, excellent benefits and more. Register for our Hiring Event now to secure your on-the-spot interview! \nRegister Here
URL:https://northside.site.findly.com/event/forsyth-physician-practices-hiring-event-feb-5-2025/
CATEGORIES:Nurse Events 1
END:VEVENT
END:VCALENDAR