BEGIN:VCALENDAR
VERSION:2.0
PRODID:-//Northside Hospital | Careers - ECPv6.15.12.2//NONSGML v1.0//EN
CALSCALE:GREGORIAN
METHOD:PUBLISH
X-WR-CALNAME:Northside Hospital | Careers
X-ORIGINAL-URL:https://northside.site.findly.com
X-WR-CALDESC:Events for Northside Hospital | Careers
REFRESH-INTERVAL;VALUE=DURATION:PT1H
X-Robots-Tag:noindex
X-PUBLISHED-TTL:PT1H
BEGIN:VTIMEZONE
TZID:UTC
BEGIN:STANDARD
TZOFFSETFROM:+0000
TZOFFSETTO:+0000
TZNAME:UTC
DTSTART:20240101T000000
END:STANDARD
END:VTIMEZONE
BEGIN:VEVENT
DTSTART;TZID=UTC:20250130T090000
DTEND;TZID=UTC:20250130T113000
DTSTAMP:20260425T232003
CREATED:20250120T073722Z
LAST-MODIFIED:20250120T074058Z
UID:19666-1738227600-1738236600@northside.site.findly.com
SUMMARY:Glancy Inpatient Rehab RN Event Jan 30
DESCRIPTION:Join us at our Glancy Inpatient Rehab RNs Hiring Event\n\n\n\n\n\nLOOK TO NORTHSIDE\nExpand Your Horizons \nGlancy Inpatient Rehab RNs\nMonday\, January 30\, 9-11:30am \n\nReimagine what you want in work and life because you can have it all Northside! Create a career that meets your work\, life\, home and family needs at our 30-bed Glancy Inpatient Rehab unit in Duluth\, Georgia. Our team specializes in recovery from stroke\, brain injury\, and orthopedic and neurological injuries in a slower-paced family atmosphere. Features include a huge gym\, advanced equipment\, therapeutic gardens\, and all the benefits of being a Northside RN. Register for our Hiring Event now to secure your on-the-spot interview! \nRegister Here
URL:https://northside.site.findly.com/event/glancy-inpatient-rehab-rn-event-jan-30/
CATEGORIES:Nurse Events 1
END:VEVENT
END:VCALENDAR