BEGIN:VCALENDAR
VERSION:2.0
PRODID:-//Northside Hospital | Careers - ECPv6.15.12.2//NONSGML v1.0//EN
CALSCALE:GREGORIAN
METHOD:PUBLISH
X-WR-CALNAME:Northside Hospital | Careers
X-ORIGINAL-URL:https://northside.site.findly.com
X-WR-CALDESC:Events for Northside Hospital | Careers
REFRESH-INTERVAL;VALUE=DURATION:PT1H
X-Robots-Tag:noindex
X-PUBLISHED-TTL:PT1H
BEGIN:VTIMEZONE
TZID:UTC
BEGIN:STANDARD
TZOFFSETFROM:+0000
TZOFFSETTO:+0000
TZNAME:UTC
DTSTART:20220101T000000
END:STANDARD
END:VTIMEZONE
BEGIN:VEVENT
DTSTART;TZID=UTC:20231018T070000
DTEND;TZID=UTC:20231018T103000
DTSTAMP:20260425T220912
CREATED:20231013T130654Z
LAST-MODIFIED:20231013T130654Z
UID:17505-1697612400-1697625000@northside.site.findly.com
SUMMARY:Gwinnett Acute Care In-Person Hiring Event
DESCRIPTION:BE PART OF A DYNAMIC\, GROWING TEAM\nLOOK TO NORTHSIDE\n\n\n\n\n\nJoin us for our Gwinnett Acute Care In-Person Hiring Event October 18 @ 7 am – 10:30 am \nGwinnett Acute Care In-Person Hiring Event\nWednesday\, Oct. 18 | 7 a.m. – 10:30 a.m. \nNorthside Hospital Gwinnett – Resource Center\n665 Duluth Hwy STE 101\nLawrenceville\, GA 30046 \nRNs\, RN Leadership\, LPNs\, and Patient Care Techs\, join us for coffee and breakfast at our in-person hiring event on October 18! We are opening a new Acute Care unit and will be hiring for this and existing acute care units. Be part of a growing team\, where opportunities are available on all shifts. \nAs part of our team\, enjoy: \n\nA great work environment\nVarious shift options\nOpportunities for growth\nFull benefits\, including a generous pension\n\nLearn more about our roles and RSVP today. \nWe look forward to meeting you! \n\nRSVP Now!
URL:https://northside.site.findly.com/event/gwinnett-acute-care-in-person-hiring-event/
LOCATION:Northside Resource Center\, 1000 Medical Center Boulevard\, Lawrenceville\, GA\, 30046\, United States
CATEGORIES:Nurse Events 4
END:VEVENT
END:VCALENDAR