BEGIN:VCALENDAR
VERSION:2.0
PRODID:-//Northside Hospital | Careers - ECPv6.15.12.2//NONSGML v1.0//EN
CALSCALE:GREGORIAN
METHOD:PUBLISH
X-WR-CALNAME:Northside Hospital | Careers
X-ORIGINAL-URL:https://northside.site.findly.com
X-WR-CALDESC:Events for Northside Hospital | Careers
REFRESH-INTERVAL;VALUE=DURATION:PT1H
X-Robots-Tag:noindex
X-PUBLISHED-TTL:PT1H
BEGIN:VTIMEZONE
TZID:UTC
BEGIN:STANDARD
TZOFFSETFROM:+0000
TZOFFSETTO:+0000
TZNAME:UTC
DTSTART:20230101T000000
END:STANDARD
END:VTIMEZONE
BEGIN:VEVENT
DTSTART;TZID=UTC:20240509T150000
DTEND;TZID=UTC:20240509T190000
DTSTAMP:20260426T025333
CREATED:20240403T102826Z
LAST-MODIFIED:20240403T102826Z
UID:18332-1715266800-1715281200@northside.site.findly.com
SUMMARY:Gwinnett and Forsyth RN Hiring Event
DESCRIPTION:Gwinnett and Forsyth RN Hiring Event\n\n\n\n\n\nTo expand your career\nLOOK TO NORTHSIDE\n \nThursday\, May 9th | 3:00 – 7:00 p.m. \nAttention RNs! We invite you to attend our exclusive Hiring Event and connect with our team at elegant Chateau Elan. We have exciting careers at our Gwinnett and Forsyth locations. Opportunities available in Acute Care\, Critical Care\, IMC\, Cardiac\, Nursing Leadership\, and more! \n\nLearn more about our available roles and RSVP today.
URL:https://northside.site.findly.com/event/gwinnett-and-forsyth-rn-hiring-event/
CATEGORIES:Allied Events
END:VEVENT
END:VCALENDAR