BEGIN:VCALENDAR
VERSION:2.0
PRODID:-//Northside Hospital | Careers - ECPv6.15.12.2//NONSGML v1.0//EN
CALSCALE:GREGORIAN
METHOD:PUBLISH
X-WR-CALNAME:Northside Hospital | Careers
X-ORIGINAL-URL:https://northside.site.findly.com
X-WR-CALDESC:Events for Northside Hospital | Careers
REFRESH-INTERVAL;VALUE=DURATION:PT1H
X-Robots-Tag:noindex
X-PUBLISHED-TTL:PT1H
BEGIN:VTIMEZONE
TZID:UTC
BEGIN:STANDARD
TZOFFSETFROM:+0000
TZOFFSETTO:+0000
TZNAME:UTC
DTSTART:20230101T000000
END:STANDARD
END:VTIMEZONE
BEGIN:VEVENT
DTSTART;TZID=UTC:20240829T163000
DTEND;TZID=UTC:20240829T190000
DTSTAMP:20260425T232655
CREATED:20240726T073658Z
LAST-MODIFIED:20240814T111215Z
UID:19178-1724949000-1724958000@northside.site.findly.com
SUMMARY:Gwinnett GI Interview Event
DESCRIPTION:Gwinnett GI Interview Event\n\n\n\n\n\nThursday\, August 29th\n4:30 – 7:00 p.m. \nJoin us at our hiring event to learn about our GI Service line! We offer leading-edge technologies and high-tech facilities to provide GI\, Interventional GI\, Pulmonary\, and Interventional Pulmonary procedures to our patients. Don’t miss this opportunity to join our dynamic team! We have roles for RNs\, GI Techs\, and Interventional GI Techs at our Gwinnett campus. \nLearn more about our career opportunities and how you can grow personally and professionally as part of our team. Interviews will be conducted and offers made on the spot. \n\nRSVP Today
URL:https://northside.site.findly.com/event/gwinnett-gi-interview-event/
CATEGORIES:Non-Clinical
END:VEVENT
END:VCALENDAR