BEGIN:VCALENDAR
VERSION:2.0
PRODID:-//Northside Hospital | Careers - ECPv6.15.12.2//NONSGML v1.0//EN
CALSCALE:GREGORIAN
METHOD:PUBLISH
X-WR-CALNAME:Northside Hospital | Careers
X-ORIGINAL-URL:https://northside.site.findly.com
X-WR-CALDESC:Events for Northside Hospital | Careers
REFRESH-INTERVAL;VALUE=DURATION:PT1H
X-Robots-Tag:noindex
X-PUBLISHED-TTL:PT1H
BEGIN:VTIMEZONE
TZID:UTC
BEGIN:STANDARD
TZOFFSETFROM:+0000
TZOFFSETTO:+0000
TZNAME:UTC
DTSTART:20230101T000000
END:STANDARD
END:VTIMEZONE
BEGIN:VEVENT
DTSTART;TZID=UTC:20240425T143000
DTEND;TZID=UTC:20240425T190000
DTSTAMP:20260425T233657
CREATED:20240325T092721Z
LAST-MODIFIED:20240325T092721Z
UID:18291-1714055400-1714071600@northside.site.findly.com
SUMMARY:Gwinnett Physician Practice Hiring Event
DESCRIPTION:Gwinnett Physician Practice Hiring Event\n\n\n\n\n\nTo expand your career\nLOOK TO NORTHSIDE\n \nThursday\, April 25th @ 2:30 – 7:00 p.m \nCalling all Medical Assistants\, Front Office Professionals\, Schedulers\, and Billing\nProfessionals! Join us for our Physician Practice Hiring Event. We’d love to meet you and tell you about rewarding opportunities available in Gwinnett County. You won’t want\nto miss this chance to learn about careers with Northside and our generous benefits. \n\nRSVP Today! We look forward to meeting you.
URL:https://northside.site.findly.com/event/gwinnett-physician-practice-hiring-event/
CATEGORIES:Nurse Events 5
END:VEVENT
END:VCALENDAR