BEGIN:VCALENDAR
VERSION:2.0
PRODID:-//Northside Hospital | Careers - ECPv6.15.12.2//NONSGML v1.0//EN
CALSCALE:GREGORIAN
METHOD:PUBLISH
X-WR-CALNAME:Northside Hospital | Careers
X-ORIGINAL-URL:https://northside.site.findly.com
X-WR-CALDESC:Events for Northside Hospital | Careers
REFRESH-INTERVAL;VALUE=DURATION:PT1H
X-Robots-Tag:noindex
X-PUBLISHED-TTL:PT1H
BEGIN:VTIMEZONE
TZID:America/Halifax
BEGIN:DAYLIGHT
TZOFFSETFROM:-0400
TZOFFSETTO:-0300
TZNAME:ADT
DTSTART:20210314T060000
END:DAYLIGHT
BEGIN:STANDARD
TZOFFSETFROM:-0300
TZOFFSETTO:-0400
TZNAME:AST
DTSTART:20211107T050000
END:STANDARD
BEGIN:DAYLIGHT
TZOFFSETFROM:-0400
TZOFFSETTO:-0300
TZNAME:ADT
DTSTART:20220313T060000
END:DAYLIGHT
BEGIN:STANDARD
TZOFFSETFROM:-0300
TZOFFSETTO:-0400
TZNAME:AST
DTSTART:20221106T050000
END:STANDARD
BEGIN:DAYLIGHT
TZOFFSETFROM:-0400
TZOFFSETTO:-0300
TZNAME:ADT
DTSTART:20230312T060000
END:DAYLIGHT
BEGIN:STANDARD
TZOFFSETFROM:-0300
TZOFFSETTO:-0400
TZNAME:AST
DTSTART:20231105T050000
END:STANDARD
END:VTIMEZONE
BEGIN:VEVENT
DTSTART;TZID=America/Halifax:20220505T150000
DTEND;TZID=America/Halifax:20220505T170000
DTSTAMP:20260425T232921
CREATED:20220331T151148Z
LAST-MODIFIED:20220428T070726Z
UID:14327-1651762800-1651770000@northside.site.findly.com
SUMMARY:ICU/Critical Care RN Virtual Hiring Event
DESCRIPTION:ICU/Critical Care RN Virtual Hiring Event\n\n\n\n\n\nTake on the biggest challenges. Experience the greatest rewards. \nThursday\, May 5th\n3:00pm – 5:00pm\nZoom Meeting\n \nWe have immediate openings for skilled\, experienced ICU and critical care RNs at all of our hospital locations. Join us at this important event! \nAPPLY TODAY \nYou’ll receive Zoom details when you apply.
URL:https://northside.site.findly.com/event/icu-critical-care-rn-virtual-hiring-event/
CATEGORIES:Nurse Events 5
END:VEVENT
END:VCALENDAR