BEGIN:VCALENDAR
VERSION:2.0
PRODID:-//Northside Hospital | Careers - ECPv6.15.12.2//NONSGML v1.0//EN
CALSCALE:GREGORIAN
METHOD:PUBLISH
X-ORIGINAL-URL:https://northside.site.findly.com
X-WR-CALDESC:Events for Northside Hospital | Careers
REFRESH-INTERVAL;VALUE=DURATION:PT1H
X-Robots-Tag:noindex
X-PUBLISHED-TTL:PT1H
BEGIN:VTIMEZONE
TZID:UTC
BEGIN:STANDARD
TZOFFSETFROM:+0000
TZOFFSETTO:+0000
TZNAME:UTC
DTSTART:20210101T000000
END:STANDARD
END:VTIMEZONE
BEGIN:VEVENT
DTSTART;TZID=UTC:20220908T140000
DTEND;TZID=UTC:20220908T193000
DTSTAMP:20260426T012223
CREATED:20220908T083156Z
LAST-MODIFIED:20220908T083156Z
UID:15419-1662645600-1662665400@northside.site.findly.com
SUMMARY:Interviewing RNs – All specialties\, all shifts\, ongoing Zoom call\, drop-in style
DESCRIPTION:Interviewing RNs\n\n\n\n\n\n\nAll specialties\, all shifts\, ongoing Zoom call\, drop-in style \nTuesday\, September 6 – Friday\, September 16\nMonday\, Wednesday\, Friday | 7:30 am – 1:30 pm\nTuesday\, Thursday | 2:00 pm-7:30 pm \nRSVP/Schedule a Time Here
URL:https://northside.site.findly.com/event/interviewing-rns-all-specialties-all-shifts-ongoing-zoom-call-drop-in-style-2/2022-09-08/
CATEGORIES:Nurse Events 4
END:VEVENT
END:VCALENDAR