BEGIN:VCALENDAR
VERSION:2.0
PRODID:-//Northside Hospital | Careers - ECPv6.15.12.2//NONSGML v1.0//EN
CALSCALE:GREGORIAN
METHOD:PUBLISH
X-WR-CALNAME:Northside Hospital | Careers
X-ORIGINAL-URL:https://northside.site.findly.com
X-WR-CALDESC:Events for Northside Hospital | Careers
REFRESH-INTERVAL;VALUE=DURATION:PT1H
X-Robots-Tag:noindex
X-PUBLISHED-TTL:PT1H
BEGIN:VTIMEZONE
TZID:UTC
BEGIN:STANDARD
TZOFFSETFROM:+0000
TZOFFSETTO:+0000
TZNAME:UTC
DTSTART:20220101T000000
END:STANDARD
END:VTIMEZONE
BEGIN:VEVENT
DTSTART;TZID=UTC:20231017T170000
DTEND;TZID=UTC:20231017T190000
DTSTAMP:20260425T235222
CREATED:20231003T084941Z
LAST-MODIFIED:20231003T085434Z
UID:17416-1697562000-1697569200@northside.site.findly.com
SUMMARY:Join a Recognized Leader in Cancer Care Suburban Hematology Oncology Associates Event
DESCRIPTION:October 17 @ 5:00 pm – 7:00 pm\nRN Suburban Hematology Oncology Associates Hiring Event\n\n\n\n\n\nJoin a Recognized Leader in Cancer Care\nSuburban Hematology Oncology Associates Event \nTuesday\, Oct. 17 | 5 p.m. – 7 p.m.\n631 Professional Drive\, Suite 220\nLawrenceville\, GA 30046 \nRNs\, join us for our Suburban Hematology Oncology Associates Event on October 17. We have roles available in Outpatient Infusion at our Lawrenceville and Duluth locations. \nAs part of our team\, you’ll enjoy: \nA great work environment\nA consistent Monday-Friday work schedule\nNo call/No evenings/No weekends\nOpportunities for growth\nFull benefits\, including a generous pension \nNorthside has been offering cancer care services since 1978\, and throughout our journey\, we’ve grown into one of the largest and most respected providers of cancer care in the Southeast. \nWe look forward to meeting you! Parking is onsite and can be validated after your interview. \n\nApply Today!
URL:https://northside.site.findly.com/event/join-a-recognized-leader-in-cancer-care-suburban-hematology-oncology-associates-event/
CATEGORIES:Nurse Events 1
END:VEVENT
END:VCALENDAR