BEGIN:VCALENDAR
VERSION:2.0
PRODID:-//Northside Hospital | Careers - ECPv6.15.12.2//NONSGML v1.0//EN
CALSCALE:GREGORIAN
METHOD:PUBLISH
X-WR-CALNAME:Northside Hospital | Careers
X-ORIGINAL-URL:https://northside.site.findly.com
X-WR-CALDESC:Events for Northside Hospital | Careers
REFRESH-INTERVAL;VALUE=DURATION:PT1H
X-Robots-Tag:noindex
X-PUBLISHED-TTL:PT1H
BEGIN:VTIMEZONE
TZID:UTC
BEGIN:STANDARD
TZOFFSETFROM:+0000
TZOFFSETTO:+0000
TZNAME:UTC
DTSTART:20210101T000000
END:STANDARD
END:VTIMEZONE
BEGIN:VEVENT
DTSTART;TZID=UTC:20220830T090000
DTEND;TZID=UTC:20220830T130000
DTSTAMP:20260426T010029
CREATED:20220819T200917Z
LAST-MODIFIED:20220819T201416Z
UID:15306-1661850000-1661864400@northside.site.findly.com
SUMMARY:Join Northside Hospital for our Acute Care LPN Residency Program Hiring Event
DESCRIPTION:Join Northside Hospital for our Acute Care LPN Residency Program Hiring Event.\n\n\n\n\n\n\nTuesday\, August 30th | 9 a.m. – 1 p.m.\nROAM Perimeter\n1151 Hammond Drive\nSuite 240\nAtlanta\, GA 30346 \nJoin us for our Acute Care LPN Residency Program Hiring Event and explore the openings we have in our residency programs at our Atlanta\, Cherokee\, Gwinnett\, Duluth and Forsyth campuses. \nRSVP Here!
URL:https://northside.site.findly.com/event/join-northside-hospital-for-our-acute-care-lpn-residency-program-hiring-event/
LOCATION:Roam Perimeter Center\, 1151 Hammond Drive NE\, Suite 240\, Atlanta\, GA\, 30346\, United States
CATEGORIES:Nurse Events 2
END:VEVENT
END:VCALENDAR