BEGIN:VCALENDAR
VERSION:2.0
PRODID:-//Northside Hospital | Careers - ECPv6.15.12.2//NONSGML v1.0//EN
CALSCALE:GREGORIAN
METHOD:PUBLISH
X-WR-CALNAME:Northside Hospital | Careers
X-ORIGINAL-URL:https://northside.site.findly.com
X-WR-CALDESC:Events for Northside Hospital | Careers
REFRESH-INTERVAL;VALUE=DURATION:PT1H
X-Robots-Tag:noindex
X-PUBLISHED-TTL:PT1H
BEGIN:VTIMEZONE
TZID:UTC
BEGIN:STANDARD
TZOFFSETFROM:+0000
TZOFFSETTO:+0000
TZNAME:UTC
DTSTART:20230101T000000
END:STANDARD
END:VTIMEZONE
BEGIN:VEVENT
DTSTART;TZID=UTC:20240507T130000
DTEND;TZID=UTC:20240507T150000
DTSTAMP:20260426T025407
CREATED:20240412T182052Z
LAST-MODIFIED:20240422T042908Z
UID:18423-1715086800-1715094000@northside.site.findly.com
SUMMARY:Join us at our Gwinnett & Duluth Food Services Hiring Event
DESCRIPTION:Gwinnett & Duluth Food Services Hiring Event\n\n\n\n\n\nTo expand your career\nLOOK TO NORTHSIDE\n \nTuesday\, May 7th | 1:00 – 3:00 p.m.\nNorthside Hospital Gwinnett – Cafeteria Private Dining Room\n1000 Medical Center Blvd.\nLawrenceville\, GA 30046 \nAttention Food Service and Customer Service Professionals! Join us for our Hiring Event on May 7th. We’d love to tell you about rewarding entry-level opportunities at our Gwinnett and Duluth locations. We have openings for: \n\nFood Service Workers\nPatient Dining Associates\nCooks\nCashiers\n\n\nRSVP today
URL:https://northside.site.findly.com/event/join-us-at-our-gwinnett-duluth-food-services-hiring-event/
CATEGORIES:Non-Clinical
END:VEVENT
END:VCALENDAR