BEGIN:VCALENDAR
VERSION:2.0
PRODID:-//Northside Hospital | Careers - ECPv6.15.12.2//NONSGML v1.0//EN
CALSCALE:GREGORIAN
METHOD:PUBLISH
X-WR-CALNAME:Northside Hospital | Careers
X-ORIGINAL-URL:https://northside.site.findly.com
X-WR-CALDESC:Events for Northside Hospital | Careers
REFRESH-INTERVAL;VALUE=DURATION:PT1H
X-Robots-Tag:noindex
X-PUBLISHED-TTL:PT1H
BEGIN:VTIMEZONE
TZID:UTC
BEGIN:STANDARD
TZOFFSETFROM:+0000
TZOFFSETTO:+0000
TZNAME:UTC
DTSTART:20230101T000000
END:STANDARD
END:VTIMEZONE
BEGIN:VEVENT
DTSTART;TZID=UTC:20240321T160000
DTEND;TZID=UTC:20240321T190000
DTSTAMP:20260425T122805
CREATED:20240306T113410Z
LAST-MODIFIED:20240306T113834Z
UID:18138-1711036800-1711047600@northside.site.findly.com
SUMMARY:Join us at our Northside Hospital Gwinnett Radiology Event
DESCRIPTION:Northside Hospital Gwinnett Radiology Event \n\n\n\n\n\nTo work in a state-of-the-art environment\nLOOK TO NORTHSIDE\n \nThursday\, March 21st | 4:00 – 7:00 p.m.\nTequila Mama\n340 Town Center Ave.\nSuwanee\, GA 30024\n \nAttention Radiology Professionals! Join us for our Hiring Event on March 21st. We’d love to meet you and tell you about our exciting opportunities in Radiology at our Gwinnett facility. We have opportunities for Radiologic Techs and Assistants for all shifts. \nInterviews will be conducted at the event\, and offers will be made on the spot\, so don’t miss out on this opportunity! We look forward to meeting you. \n\nRSVP Today!
URL:https://northside.site.findly.com/event/join-us-at-our-northside-hospital-gwinnett-radiology-event/
CATEGORIES:Nurse Events 3
END:VEVENT
END:VCALENDAR