BEGIN:VCALENDAR
VERSION:2.0
PRODID:-//Northside Hospital | Careers - ECPv6.15.12.2//NONSGML v1.0//EN
CALSCALE:GREGORIAN
METHOD:PUBLISH
X-WR-CALNAME:Northside Hospital | Careers
X-ORIGINAL-URL:https://northside.site.findly.com
X-WR-CALDESC:Events for Northside Hospital | Careers
REFRESH-INTERVAL;VALUE=DURATION:PT1H
X-Robots-Tag:noindex
X-PUBLISHED-TTL:PT1H
BEGIN:VTIMEZONE
TZID:UTC
BEGIN:STANDARD
TZOFFSETFROM:+0000
TZOFFSETTO:+0000
TZNAME:UTC
DTSTART:20220101T000000
END:STANDARD
END:VTIMEZONE
BEGIN:VEVENT
DTSTART;TZID=UTC:20230308T090000
DTEND;TZID=UTC:20230308T143000
DTSTAMP:20260425T234422
CREATED:20230223T094600Z
LAST-MODIFIED:20230228T075300Z
UID:16586-1678266000-1678285800@northside.site.findly.com
SUMMARY:Join us for an Acute Care LPN Resident Event.
DESCRIPTION:Join us for an Acute Care LPN Resident Event.\n\n\n\n\n\nAccelerate Your Career. Look to Northside. \nWednesday\, March 8 | 9:30 a.m. – 2:30 p.m.\nROAM Perimeter\n1151 Hammond Dr Suite 240\nAtlanta\, GA 30346 \nCome to our Acute Care LPN Resident Event on March 8. Mix\, mingle\, and learn more about our opportunities. LPN new grads and experienced LPNs are encouraged to attend. We have all shifts available at our five hospital locations. By becoming part of Northside’s team\, you’ll enjoy…\n• Excellent benefits\n• Student loan repayment\n• Tuition reimbursement\n• Work-life balance\n• A strong culture of caring\n \nInterviews will be conducted on the spot. We look forward to meeting you! \n\nRSVP Here!
URL:https://northside.site.findly.com/event/join-us-for-an-acute-care-lpn-resident-event/
CATEGORIES:Nurse Events 5
END:VEVENT
END:VCALENDAR