BEGIN:VCALENDAR
VERSION:2.0
PRODID:-//Northside Hospital | Careers - ECPv6.15.12.2//NONSGML v1.0//EN
CALSCALE:GREGORIAN
METHOD:PUBLISH
X-WR-CALNAME:Northside Hospital | Careers
X-ORIGINAL-URL:https://northside.site.findly.com
X-WR-CALDESC:Events for Northside Hospital | Careers
REFRESH-INTERVAL;VALUE=DURATION:PT1H
X-Robots-Tag:noindex
X-PUBLISHED-TTL:PT1H
BEGIN:VTIMEZONE
TZID:UTC
BEGIN:STANDARD
TZOFFSETFROM:+0000
TZOFFSETTO:+0000
TZNAME:UTC
DTSTART:20220101T000000
END:STANDARD
END:VTIMEZONE
BEGIN:VEVENT
DTSTART;TZID=UTC:20231005T160000
DTEND;TZID=UTC:20231005T190000
DTSTAMP:20260426T012923
CREATED:20230927T091812Z
LAST-MODIFIED:20230927T092025Z
UID:17406-1696521600-1696532400@northside.site.findly.com
SUMMARY:Join us for our Cancer Institute Oncology RN & LPN In-Person Hiring
DESCRIPTION:ENHANCE DEDICATED CANCER CARE\nLOOK TO NORTHSIDE\n\n\n\n\n\nJoin us for our Cancer Institute Oncology RN & LPN In-Person Hiring \nOncology RN & LPN In-Person Hiring Event\nThursday\, Oct. 5 | 4:00 pm – 7:00 pm\nHOBNOB Neighborhood Tavern\n6690 Town Square #420\nAlpharetta\, GA 30005 \nRNs and LPNs\, join us for our Cancer Institute Oncology RN & LPN In-Person Hiring Event. We have roles at our Atlanta\, Forsyth\, Cherokee\, and Gwinnett campuses\, as well as our outpatient clinics across the metro-Atlanta area. \nAs part of our team\, you’ll enjoy: \n• A great work environment\n• Working with one of the nation’s largest cancer programs\n• Multiple shift options\n• Opportunities for growth\n• Full benefits\, including a generous pension \nYou can work with one of the nation’s largest cancer programs\, where we diagnose and treat more new cases of cancer than any other community health system in Georgia. We have opportunities in inpatient oncology\, inpatient bone marrow transplant\, outpatient infusion\, clinical research\, and radiation oncology. Various shifts are available. \nLearn more about our roles and RSVP today. \nWe look forward to meeting you! \n\nRSVP Now!
URL:https://northside.site.findly.com/event/join-us-for-our-cancer-institute-oncology-rn-lpn-in-person-hiring/
CATEGORIES:Nurse Events 1
END:VEVENT
END:VCALENDAR