BEGIN:VCALENDAR
VERSION:2.0
PRODID:-//Northside Hospital | Careers - ECPv6.15.12.2//NONSGML v1.0//EN
CALSCALE:GREGORIAN
METHOD:PUBLISH
X-WR-CALNAME:Northside Hospital | Careers
X-ORIGINAL-URL:https://northside.site.findly.com
X-WR-CALDESC:Events for Northside Hospital | Careers
REFRESH-INTERVAL;VALUE=DURATION:PT1H
X-Robots-Tag:noindex
X-PUBLISHED-TTL:PT1H
BEGIN:VTIMEZONE
TZID:UTC
BEGIN:STANDARD
TZOFFSETFROM:+0000
TZOFFSETTO:+0000
TZNAME:UTC
DTSTART:20220101T000000
END:STANDARD
END:VTIMEZONE
BEGIN:VEVENT
DTSTART;TZID=UTC:20231018T160000
DTEND;TZID=UTC:20231018T183000
DTSTAMP:20260425T220354
CREATED:20230926T110541Z
LAST-MODIFIED:20230926T110541Z
UID:17396-1697644800-1697653800@northside.site.findly.com
SUMMARY:Join us for our Speech Language Pathologist In-Person Hiring Event
DESCRIPTION:ENJOY A STRONGER VOICE IN YOUR CAREER\nLOOK TO NORTHSIDE\n\n\n\n\n\nJoin us for our Speech Language Pathologist In-Person Hiring Event \nSpeech Language Pathologist In-Person Hiring Event\nWednesday\, Oct. 18 | 4 p.m. – 6:30 p.m. \nSpeech Language Pathologists that have your CCC-SLP or are in your CFY\, please join us for our in-person hiring event\, tour our department\, and explore full-time and PRN roles at our Forsyth campus in both acute care and outpatient settings. \nAs part of our team\, enjoy:\n● A great work environment\n● Various shift options\n● Opportunities for growth\n● Full benefits\, including a generous pension\nLearn more about our roles and RSVP today. Qualified candidates will receive the event details as we get closer to the event date. \nWe look forward to meeting you! \n\nRSVP Now!
URL:https://northside.site.findly.com/event/join-us-for-our-speech-language-pathologist-in-person-hiring-event/
CATEGORIES:Nurse Events 1
END:VEVENT
END:VCALENDAR