BEGIN:VCALENDAR
VERSION:2.0
PRODID:-//Northside Hospital | Careers - ECPv6.15.12.2//NONSGML v1.0//EN
CALSCALE:GREGORIAN
METHOD:PUBLISH
X-WR-CALNAME:Northside Hospital | Careers
X-ORIGINAL-URL:https://northside.site.findly.com
X-WR-CALDESC:Events for Northside Hospital | Careers
REFRESH-INTERVAL;VALUE=DURATION:PT1H
X-Robots-Tag:noindex
X-PUBLISHED-TTL:PT1H
BEGIN:VTIMEZONE
TZID:UTC
BEGIN:STANDARD
TZOFFSETFROM:+0000
TZOFFSETTO:+0000
TZNAME:UTC
DTSTART:20200101T000000
END:STANDARD
END:VTIMEZONE
BEGIN:VEVENT
DTSTART;TZID=UTC:20210825T170000
DTEND;TZID=UTC:20210825T200000
DTSTAMP:20260426T011348
CREATED:20210802T182909Z
LAST-MODIFIED:20210803T102818Z
UID:11761-1629910800-1629921600@northside.site.findly.com
SUMMARY:Laureate Medical Group Hiring Event
DESCRIPTION:Laureate Medical Group\nHiring Event\n\n\n\n\n\nCome to the Laureate Medical Group\nHiring Event at PURE Taqueria! \nLaureate Medical Group Hiring Event\nWednesday\, August 25th\n5:00pm-8:00pm\nPURE Taqueria in Brookhaven\n3589 Durden Dr. NE\nAtlanta\, GA \nIf variety is the spice of life\, get ready to dig in to an incredible variety of options at Laureate Medical Group – part of Northside Hospital. Our large group practice features a diversity of medical specialties\, including: internal medicine\, endocrinology\, rheumatology\, neurology and sleep medicine\, as well as a full-service lab and call center/billing services department. With offices in Alpharetta\, Cumming\, Canton\, East Cobb\, Holly Springs\, Sandy Springs\, Midtown\, and Jonesboro\, we have a wealth of exciting openings available. Join us on August 25 at PURE Taqueria and explore these roles: \n• Accounts Receivable/Collections\n• Communications Operator\n• Front Office Assistants\n• Medical Assistants\n• Medical Office Manager\n• Medical Records Clerk\n• Payment Posting Rep\n• Project Manager\n• Scheduler\n• Telephone Triage Registered Nurse \nRSVP by contacting Aspen Allen at Aspen.Allen@northside.com.
URL:https://northside.site.findly.com/event/laureate-medical-group-hiring-event/
CATEGORIES:Non Clinical 1,Nurse Events 1
END:VEVENT
END:VCALENDAR