BEGIN:VCALENDAR
VERSION:2.0
PRODID:-//Northside Hospital | Careers - ECPv6.15.12.2//NONSGML v1.0//EN
CALSCALE:GREGORIAN
METHOD:PUBLISH
X-WR-CALNAME:Northside Hospital | Careers
X-ORIGINAL-URL:https://northside.site.findly.com
X-WR-CALDESC:Events for Northside Hospital | Careers
REFRESH-INTERVAL;VALUE=DURATION:PT1H
X-Robots-Tag:noindex
X-PUBLISHED-TTL:PT1H
BEGIN:VTIMEZONE
TZID:UTC
BEGIN:STANDARD
TZOFFSETFROM:+0000
TZOFFSETTO:+0000
TZNAME:UTC
DTSTART:20220101T000000
END:STANDARD
END:VTIMEZONE
BEGIN:VEVENT
DTSTART;TZID=UTC:20231004T160000
DTEND;TZID=UTC:20231004T190000
DTSTAMP:20260425T234426
CREATED:20230913T093750Z
LAST-MODIFIED:20230913T093750Z
UID:17285-1696435200-1696446000@northside.site.findly.com
SUMMARY:LOOKING TO ELEVATE CARDIAC CARE?  LOOK TO NORTHSIDE
DESCRIPTION:LOOKING TO ELEVATE CARDIAC CARE?\nLOOK TO NORTHSIDE\n\n\n\n\n\nJoin us for our Northside Gwinnett Cardiology RN & Tech Event \nGwinnett Cardiology RN & Tech Event\nWednesday\, Oct. 4 | 4 – 7 p.m.\nMcCray’s Tavern Lawrenceville\n100 N Perry St.\nLawrenceville\, GA 30046 \nCardiology RNs and Techs\, join us for our Northside Gwinnett Cardiology RN & Tech Event to learn more about rewarding roles with our team! We have opportunities at Northside Gwinnett and our Cardiology Practices.\nAs part of our team\, enjoy… \n● A great work environment\n● Opportunities for growth\n● Excellent benefits \nWe look forward to meeting you! \n\nRSVP Now!
URL:https://northside.site.findly.com/event/looking-to-elevate-cardiac-care-look-to-northside/
CATEGORIES:Nurse Events 4
END:VEVENT
END:VCALENDAR