BEGIN:VCALENDAR
VERSION:2.0
PRODID:-//Northside Hospital | Careers - ECPv6.15.12.2//NONSGML v1.0//EN
CALSCALE:GREGORIAN
METHOD:PUBLISH
X-WR-CALNAME:Northside Hospital | Careers
X-ORIGINAL-URL:https://northside.site.findly.com
X-WR-CALDESC:Events for Northside Hospital | Careers
REFRESH-INTERVAL;VALUE=DURATION:PT1H
X-Robots-Tag:noindex
X-PUBLISHED-TTL:PT1H
BEGIN:VTIMEZONE
TZID:UTC
BEGIN:STANDARD
TZOFFSETFROM:+0000
TZOFFSETTO:+0000
TZNAME:UTC
DTSTART:20200101T000000
END:STANDARD
END:VTIMEZONE
BEGIN:VEVENT
DTSTART;TZID=UTC:20211215T090000
DTEND;TZID=UTC:20211215T140000
DTSTAMP:20260425T232834
CREATED:20211203T114832Z
LAST-MODIFIED:20211203T120217Z
UID:12927-1639558800-1639576800@northside.site.findly.com
SUMMARY:Make a meaningful contribution.Enjoy significant rewards.
DESCRIPTION:Make a meaningful contribution.\nEnjoy significant rewards.\n\n\n\n\n\nEVS In-Person Job Fair\nWednesday\, December 15 | 9:00am – 2:00pm\nNorthside Hospital Forsyth – Women’s Center\n1200 Northside Forsyth Drive\nCumming\, GA 30041 \nRSVP by submitting a copy of your resume to: Stefanie.Matthews@Northside.com \nReady to make a positive impact on others’ lives with a respected healthcare leader? We’ve got the opportunity for you at our Forsyth campus! Come to our in-person Job Fair\, meet directly with EVS hiring managers and explore roles in Environmental Services!
URL:https://northside.site.findly.com/event/make-a-meaningful-contribution-enjoy-significant-rewards/
LOCATION:Northside Forsyth\, 1200 Northside Forsyth Drive\, Cumming\, GA\, 30041\, United States
CATEGORIES:Nurse Events 1
END:VEVENT
END:VCALENDAR