BEGIN:VCALENDAR
VERSION:2.0
PRODID:-//Northside Hospital | Careers - ECPv6.15.12.2//NONSGML v1.0//EN
CALSCALE:GREGORIAN
METHOD:PUBLISH
X-WR-CALNAME:Northside Hospital | Careers
X-ORIGINAL-URL:https://northside.site.findly.com
X-WR-CALDESC:Events for Northside Hospital | Careers
REFRESH-INTERVAL;VALUE=DURATION:PT1H
X-Robots-Tag:noindex
X-PUBLISHED-TTL:PT1H
BEGIN:VTIMEZONE
TZID:UTC
BEGIN:STANDARD
TZOFFSETFROM:+0000
TZOFFSETTO:+0000
TZNAME:UTC
DTSTART:20210101T000000
END:STANDARD
END:VTIMEZONE
BEGIN:VEVENT
DTSTART;TZID=UTC:20220315T113000
DTEND;TZID=UTC:20220315T133000
DTSTAMP:20260425T234801
CREATED:20220301T114028Z
LAST-MODIFIED:20220301T114028Z
UID:14023-1647343800-1647351000@northside.site.findly.com
SUMMARY:Medical Assistants Virtual Hiring Event – Gwinnett
DESCRIPTION:Medical Assistants Virtual Hiring Event – Gwinnett\n\n\n\n\n\nHelp make our award-winning patient care possible. \nMedical Assistants Virtual Hiring Event – Gwinnett\nMarch 15\, 2022 | 11:30am – 1:30pm \nZoom Meeting \nIf you’re a Medical Assistant with an interest in ambulatory/physician’s office care\, you can meet with our Hiring Managers and explore openings for Medical Assistants at our Gwinnett location. \nRSVP TODAY
URL:https://northside.site.findly.com/event/medical-assistants-virtual-hiring-event-gwinnett/
CATEGORIES:Nurse Events 5
END:VEVENT
END:VCALENDAR