BEGIN:VCALENDAR
VERSION:2.0
PRODID:-//Northside Hospital | Careers - ECPv6.15.12.2//NONSGML v1.0//EN
CALSCALE:GREGORIAN
METHOD:PUBLISH
X-WR-CALNAME:Northside Hospital | Careers
X-ORIGINAL-URL:https://northside.site.findly.com
X-WR-CALDESC:Events for Northside Hospital | Careers
REFRESH-INTERVAL;VALUE=DURATION:PT1H
X-Robots-Tag:noindex
X-PUBLISHED-TTL:PT1H
BEGIN:VTIMEZONE
TZID:UTC
BEGIN:STANDARD
TZOFFSETFROM:+0000
TZOFFSETTO:+0000
TZNAME:UTC
DTSTART:20240101T000000
END:STANDARD
END:VTIMEZONE
BEGIN:VEVENT
DTSTART;TZID=UTC:20251106T140000
DTEND;TZID=UTC:20251106T163000
DTSTAMP:20260424T152552
CREATED:20250915T072022Z
LAST-MODIFIED:20250915T072225Z
UID:20168-1762437600-1762446600@northside.site.findly.com
SUMMARY:Northside Forsyth Acute Care Nurse Hiring Event
DESCRIPTION:Northside Forsyth Acute Care Nurse Hiring Event\n\n\n\n\nWhen : NOVEMBER 6\, 2:00 p.m. — 4:30 p.m.\nOn-the-Spot Interviews & Offers \n\nYou belong in a friendly\, empowering culture of medical excellence. Register for our Acute Care Nurse Hiring Event and expand your professional possibilities. Thrive in our friendly\, empowering culture of medical excellence. Explore these openings and find out why Northside Hospital is the right place for you! \n\n· Residency RN \n· Experienced RN \n· Leadership RN \n· LPN \nFind where you belong within our award-winning workplace. Enjoy excellent benefits\, culture of work-life harmony and more! Register for the Hiring Event now! \nRegister for our event now.
URL:https://northside.site.findly.com/event/northside-forsyth-acute-care-nurse-hiring-event/
CATEGORIES:Allied Events 1
END:VEVENT
END:VCALENDAR