BEGIN:VCALENDAR
VERSION:2.0
PRODID:-//Northside Hospital | Careers - ECPv6.15.12.2//NONSGML v1.0//EN
CALSCALE:GREGORIAN
METHOD:PUBLISH
X-WR-CALNAME:Northside Hospital | Careers
X-ORIGINAL-URL:https://northside.site.findly.com
X-WR-CALDESC:Events for Northside Hospital | Careers
REFRESH-INTERVAL;VALUE=DURATION:PT1H
X-Robots-Tag:noindex
X-PUBLISHED-TTL:PT1H
BEGIN:VTIMEZONE
TZID:UTC
BEGIN:STANDARD
TZOFFSETFROM:+0000
TZOFFSETTO:+0000
TZNAME:UTC
DTSTART:20240101T000000
END:STANDARD
END:VTIMEZONE
BEGIN:VEVENT
DTSTART;TZID=UTC:20250903T120000
DTEND;TZID=UTC:20250903T150000
DTSTAMP:20260424T134853
CREATED:20250717T094857Z
LAST-MODIFIED:20250717T094857Z
UID:20106-1756900800-1756911600@northside.site.findly.com
SUMMARY:Northside Hospital Atlanta Surgical Services/OR Virtual Hiring Event
DESCRIPTION:Northside Hospital Atlanta Surgical Services/OR Virtual Hiring Event\n\n\n\n\nWhen : SEPTEMBER 3\, 12pm – 3pm\nON-THE-SPOT INTERVIEWS & OFFERS \n\nThrive in a friendly\, empowering culture of excellence at Northside Hospital Atlanta. We’re hiring for: \n\nOR RNs\nSurgical Techs\nOR Rad Techs\n\nFind where you belong within our award-winning workplace. Excellent benefits\, culture of work-life harmony and more! Register for the Atlanta Surgical Services/OR Virtual Hiring Event now! \n\nRegister Here
URL:https://northside.site.findly.com/event/northside-hospital-atlanta-surgical-services-or-virtual-hiring-event/
CATEGORIES:Nurse Events 1
END:VEVENT
END:VCALENDAR