BEGIN:VCALENDAR
VERSION:2.0
PRODID:-//Northside Hospital | Careers - ECPv6.15.12.2//NONSGML v1.0//EN
CALSCALE:GREGORIAN
METHOD:PUBLISH
X-WR-CALNAME:Northside Hospital | Careers
X-ORIGINAL-URL:https://northside.site.findly.com
X-WR-CALDESC:Events for Northside Hospital | Careers
REFRESH-INTERVAL;VALUE=DURATION:PT1H
X-Robots-Tag:noindex
X-PUBLISHED-TTL:PT1H
BEGIN:VTIMEZONE
TZID:UTC
BEGIN:STANDARD
TZOFFSETFROM:+0000
TZOFFSETTO:+0000
TZNAME:UTC
DTSTART:20240101T000000
END:STANDARD
END:VTIMEZONE
BEGIN:VEVENT
DTSTART;TZID=UTC:20250911T100000
DTEND;TZID=UTC:20250911T150000
DTSTAMP:20260424T134834
CREATED:20250818T045419Z
LAST-MODIFIED:20250818T045419Z
UID:20156-1757584800-1757602800@northside.site.findly.com
SUMMARY:Northside Hospital Certified Spanish Medical Interpreters Hiring Event
DESCRIPTION:Northside Hospital Certified Spanish Medical Interpreters Hiring Event\n\n\n\n\nWhen : September 11\, 10am—3pm\nON-THE-SPOT INTERVIEWS \n\nThrive in a friendly\, empowering culture of excellence at Northside Hospital. We’re hiring Certified Spanish Medical Interpreters for these hospitals: \n· Atlanta \n· Cherokee \n· Duluth \n· Gwinnett\n \nFind where you belong within our award-winning workplace. Excellent benefits\, culture of work-life harmony and more!  \nRegister for the Hiring Event now!
URL:https://northside.site.findly.com/event/northside-hospital-certified-spanish-medical-interpreters-hiring-event/
CATEGORIES:Allied Events,Allied Events 1
END:VEVENT
END:VCALENDAR