BEGIN:VCALENDAR
VERSION:2.0
PRODID:-//Northside Hospital | Careers - ECPv6.15.12.2//NONSGML v1.0//EN
CALSCALE:GREGORIAN
METHOD:PUBLISH
X-WR-CALNAME:Northside Hospital | Careers
X-ORIGINAL-URL:https://northside.site.findly.com
X-WR-CALDESC:Events for Northside Hospital | Careers
REFRESH-INTERVAL;VALUE=DURATION:PT1H
X-Robots-Tag:noindex
X-PUBLISHED-TTL:PT1H
BEGIN:VTIMEZONE
TZID:UTC
BEGIN:STANDARD
TZOFFSETFROM:+0000
TZOFFSETTO:+0000
TZNAME:UTC
DTSTART:20180101T000000
END:STANDARD
END:VTIMEZONE
BEGIN:VEVENT
DTSTART;TZID=UTC:20190717T160000
DTEND;TZID=UTC:20190717T183000
DTSTAMP:20260426T012035
CREATED:20190702T064139Z
LAST-MODIFIED:20190702T082409Z
UID:7994-1563379200-1563388200@northside.site.findly.com
SUMMARY:Northside Hospital Cherokee | Registered Respiratory Therapist Recruiting Event
DESCRIPTION:Northside Hospital Cherokee | Registered Respiratory Therapist Recruiting Event\n\n\n\n\n\nTaking your health care career to a new level means taking the next step. If you have at least 1+ years’ experience as a Registered Respiratory Therapist\, visit our Recruiting Event on Wednesday\, July 17\, and take that next step at Northside! \n450 Northside Cherokee Blvd.\, Galleria Room\nWednesday\, 7/17\n4:00pm – 6:30pm \nBring your updated resume\, meet with our leadership team and learn more about the opportunities available. See why we’re the only health care system in Georgia certified as a lung cancer disease-specific hospital\, check out our new facilities and learn more about the great benefits we offer\, which include: \n\nCutting edge technology and state-of-the-art facilities\nAn excellent 403b retirement plan with employer match\nFlexibility aimed at promoting work/life balance\nHighly competitive salaries and comprehensive benefits\nFully-funded pension plan\n\nJoin our elite team today and find out why we’re consistently ranked as a “Best Place To Work!” Discover yourself at Northside Hospital! \nRSVP to Roslyn Roberts at roslyn.roberts@northside.com
URL:https://northside.site.findly.com/event/northside-hospital-cherokee-registered-respiratory-therapist-recruiting-event/
LOCATION:Northside Hospital Cherokee\, 450 Northside Cherokee Blvd.\, Canton\, GA\, 30115\, United States
CATEGORIES:Nurse Events,Nurse Events 2
END:VEVENT
END:VCALENDAR