BEGIN:VCALENDAR
VERSION:2.0
PRODID:-//Northside Hospital | Careers - ECPv6.15.12.2//NONSGML v1.0//EN
CALSCALE:GREGORIAN
METHOD:PUBLISH
X-WR-CALNAME:Northside Hospital | Careers
X-ORIGINAL-URL:https://northside.site.findly.com
X-WR-CALDESC:Events for Northside Hospital | Careers
REFRESH-INTERVAL;VALUE=DURATION:PT1H
X-Robots-Tag:noindex
X-PUBLISHED-TTL:PT1H
BEGIN:VTIMEZONE
TZID:UTC
BEGIN:STANDARD
TZOFFSETFROM:+0000
TZOFFSETTO:+0000
TZNAME:UTC
DTSTART:20240101T000000
END:STANDARD
END:VTIMEZONE
BEGIN:VEVENT
DTSTART;TZID=UTC:20250918T160000
DTEND;TZID=UTC:20250918T190000
DTSTAMP:20260424T135003
CREATED:20250722T080735Z
LAST-MODIFIED:20250722T080735Z
UID:20110-1758211200-1758222000@northside.site.findly.com
SUMMARY:Northside Hospital Gwinnett & Duluth Surgical Services Hiring Event
DESCRIPTION:Northside Hospital Gwinnett & Duluth Surgical Services Hiring Event\n\n\n\n\nWhen : SEPTEMBER 18\, 4pm—7pm\nON-THE-SPOT INTERVIEWS & OFFERS \n\nThrive in a friendly\, empowering culture of excellence at Northside Hospital Gwinnett and Duluth. We’re hiring for: \n\n  RNs – OR\, EVOR\, CVOR and Perioperative\nSurgical Techs\nCVOR RN First Assists\nCVOR Surgical Assistants\nInstrument Techs\nAnesthesia Techs\n\nFind where you belong within our award-winning workplace. Excellent benefits\, culture of work-life harmony and more! Register for the Gwinnett & Duluth Surgical Services Hiring Event now!  \n\nRegister Here
URL:https://northside.site.findly.com/event/northside-hospital-gwinnett-duluth-surgical-services-hiring-event/
CATEGORIES:Nurse Events 1
END:VEVENT
END:VCALENDAR