BEGIN:VCALENDAR
VERSION:2.0
PRODID:-//Northside Hospital | Careers - ECPv6.15.12.2//NONSGML v1.0//EN
CALSCALE:GREGORIAN
METHOD:PUBLISH
X-WR-CALNAME:Northside Hospital | Careers
X-ORIGINAL-URL:https://northside.site.findly.com
X-WR-CALDESC:Events for Northside Hospital | Careers
REFRESH-INTERVAL;VALUE=DURATION:PT1H
X-Robots-Tag:noindex
X-PUBLISHED-TTL:PT1H
BEGIN:VTIMEZONE
TZID:UTC
BEGIN:STANDARD
TZOFFSETFROM:+0000
TZOFFSETTO:+0000
TZNAME:UTC
DTSTART:20240101T000000
END:STANDARD
END:VTIMEZONE
BEGIN:VEVENT
DTSTART;TZID=UTC:20250812T080000
DTEND;TZID=UTC:20250812T120000
DTSTAMP:20260424T172746
CREATED:20250711T071244Z
LAST-MODIFIED:20250711T071244Z
UID:20097-1754985600-1755000000@northside.site.findly.com
SUMMARY:Northside Hospital Gwinnett Expansion Clinical Hiring Event
DESCRIPTION:Northside Hospital Gwinnett Expansion Clinical Hiring Event\n\n\n\n\nWhen : AUGUST 12\, 8am—12pm\nON-THE-SPOT INTERVIEWS & OFFERS \n\nThrive in a friendly\, empowering culture of excellence at Northside Hospital Gwinnett. We’re hiring for: \n\nCRNAs\nRNs & RN Leadership:\n\nSurgery\nRadiology\nFloat Pool\nCritical Care\nProgressive Care\nSurgical PCU\nCardiac ICU\nCardiac PCU\nAcute Care\nWomen’s Services\nED\nED Observation\nCVOR\nCardiac Cath Lab\nPre-Op/PACU\nOR\nElectrophysiology (EP) Lab\nInfusion\nWound Ostomy Continence Nursing\nIV Therapy\n\n\nLPNs: Acute Care\nRN & LPN Residents: Acute Care\nRespiratory Therapists\nTechs/Technologists: Multiple Specialties\nCNAs: Float Pool & Multiple Specialties\nLCSW\, LPC or RNs: Behavioral Health\nPharmacists & Pharmacy Techs\nMedical Assistants\nCardiac Sonographer\nAnesthesia Assistants & Techs\nLab Technical Assistants\nClinical Dietitians\n\nFind where you belong within our award-winning workplace. Excellent benefits\, culture of work-life harmony and more! \n\nRegister for the Gwinnett Expansion Clinical Hiring Event now!
URL:https://northside.site.findly.com/event/northside-hospital-gwinnett-expansion-clinical-hiring-event/
CATEGORIES:Nurse Events,Nurse Events 1
END:VEVENT
END:VCALENDAR