BEGIN:VCALENDAR
VERSION:2.0
PRODID:-//Northside Hospital | Careers - ECPv6.15.12.2//NONSGML v1.0//EN
CALSCALE:GREGORIAN
METHOD:PUBLISH
X-WR-CALNAME:Northside Hospital | Careers
X-ORIGINAL-URL:https://northside.site.findly.com
X-WR-CALDESC:Events for Northside Hospital | Careers
REFRESH-INTERVAL;VALUE=DURATION:PT1H
X-Robots-Tag:noindex
X-PUBLISHED-TTL:PT1H
BEGIN:VTIMEZONE
TZID:UTC
BEGIN:STANDARD
TZOFFSETFROM:+0000
TZOFFSETTO:+0000
TZNAME:UTC
DTSTART:20180101T000000
END:STANDARD
END:VTIMEZONE
BEGIN:VEVENT
DTSTART;TZID=UTC:20190719T090000
DTEND;TZID=UTC:20190719T140000
DTSTAMP:20260426T011920
CREATED:20190629T164142Z
LAST-MODIFIED:20190720T072811Z
UID:7927-1563526800-1563544800@northside.site.findly.com
SUMMARY:Northside Hospital | Oncology and Infusion Walk-In Interview Days
DESCRIPTION:Northside Hospital | Oncology and Infusion Walk-In Interview Days \n\n\n\n\n\nFridays\, 9:00am – 2:00 pm \nJuly 19th – August 30th \nNorthside Hospital Interchange Professional Building \n5780 Peachtree Dunwoody Rd. NE Suite 460\, Atlanta\, GA 30342 \nAre you ready to join a team of compassionate professionals in the fight against cancer? If you have a \nyear or more of Oncology\, or Infusion nursing experience or have a passion for cancer care\, we have \nthe opportunity for you! \nJoin us during one of our Walk-in Interview Days and get ready to elevate your career! The Northside \nHospital Cancer Institute (NHCI) is the largest and most comprehensive cancer hospital network in \nGeorgia and a leader in cancer care. \nMeet with recruiter Katie Garrett\, enjoy light refreshments and find out more about the \nopportunities available with Georgia’s premier health system. Learn why we’re consistently ranked a \n“Best Place to Work’ and hear about the incredible benefits we offer\, which include: \n• An excellent 403b retirement plan with employer match \n• Flexibility aimed at promoting work/life balance \n• Highly competitive salaries and comprehensive benefits \n• Educational opportunities centered around Oncology\, including Chemo and OCN Certification \n• Tuition reimbursement and loan forgiveness programs \n• Fully-funded pension plan \nYour next step is a career with us. Find yourself at Northside! \nRSVP to Katie Garrett by sending your resume to katie.garrett@northside.com
URL:https://northside.site.findly.com/event/northside-hospital-oncology-infusion-walk-interview-days/2019-07-19/
LOCATION:Northside Hospital Interchange Professional Building\, 5780 Peachtree Dunwoody Rd. NE\, Atlanta\, GA\, 30342\, United States
CATEGORIES:Nurse Events 5
END:VEVENT
END:VCALENDAR